BEGIN:VCALENDAR
VERSION:2.0
PRODID:-//DIRimè Italia - ECPv6.15.18//NONSGML v1.0//EN
CALSCALE:GREGORIAN
METHOD:PUBLISH
X-WR-CALNAME:DIRimè Italia
X-ORIGINAL-URL:https://www.dirime.com
X-WR-CALDESC:Eventi per DIRimè Italia
REFRESH-INTERVAL;VALUE=DURATION:PT1H
X-Robots-Tag:noindex
X-PUBLISHED-TTL:PT1H
BEGIN:VTIMEZONE
TZID:Europe/Rome
BEGIN:DAYLIGHT
TZOFFSETFROM:+0100
TZOFFSETTO:+0200
TZNAME:CEST
DTSTART:20150329T010000
END:DAYLIGHT
BEGIN:STANDARD
TZOFFSETFROM:+0200
TZOFFSETTO:+0100
TZNAME:CET
DTSTART:20151025T010000
END:STANDARD
BEGIN:DAYLIGHT
TZOFFSETFROM:+0100
TZOFFSETTO:+0200
TZNAME:CEST
DTSTART:20160327T010000
END:DAYLIGHT
BEGIN:STANDARD
TZOFFSETFROM:+0200
TZOFFSETTO:+0100
TZNAME:CET
DTSTART:20161030T010000
END:STANDARD
BEGIN:DAYLIGHT
TZOFFSETFROM:+0100
TZOFFSETTO:+0200
TZNAME:CEST
DTSTART:20170326T010000
END:DAYLIGHT
BEGIN:STANDARD
TZOFFSETFROM:+0200
TZOFFSETTO:+0100
TZNAME:CET
DTSTART:20171029T010000
END:STANDARD
BEGIN:DAYLIGHT
TZOFFSETFROM:+0100
TZOFFSETTO:+0200
TZNAME:CEST
DTSTART:20180325T010000
END:DAYLIGHT
BEGIN:STANDARD
TZOFFSETFROM:+0200
TZOFFSETTO:+0100
TZNAME:CET
DTSTART:20181028T010000
END:STANDARD
END:VTIMEZONE
BEGIN:VEVENT
DTSTART;VALUE=DATE:20170204
DTEND;VALUE=DATE:20170206
DTSTAMP:20260421T045920
CREATED:20161224T135142Z
LAST-MODIFIED:20161224T135142Z
UID:971-1486166400-1486339199@www.dirime.com
SUMMARY:Corso Introduttivo DIR101 a Milano
DESCRIPTION:Corso Introduttivo al modello DIR (DIR101)\nLuogo: Residence San Vittore 49 (Sala Auditorium) – Via San Vittore 49\, MILANO \nDIRimè apre le porte agli eventi formativi del nuovo anno con un corso DIR101 nella città di Milano. \nE’ un Corso Introduttivo al modello DIR (DIR101) riconosciuto e certificato dall’ICDL (Interdisciplinary Council of Development and Learning)\, casa madre del modello DIRFloortime®. \nSi ringrazia Aias Milano Onlus per il patrocinio. \nIn questa occasione all’interno del corso sarà proiettato il docufilm “Special Mothers”\, presentato da Marco Bricco e Grazia Fallarini\, ideatori del progetto.\n“Special Mothers” è un docufilm realizzato nell’ambito del progetto NODI. Creare e sostenere una rete per l’integrazione e la valorizzazione della disabilità. Prodotto da C.I.S.A. Ovest Ticino\, in collaborazione con Unoteatro e Associazione Genitori STH onlus\, con il contributo di Fondazione Cariplo e Fondazione Comunità del Novarese onlus. \n  \nChe cos’è il corso DIR101 ? \nIl DIR101 è il primo corso introduttivo necessario per poter accedere al percorso di Certificazione nel modello DIR-Floortime riconosciuto dall’ICDL Institute. Il corso rilascia l’attestato di partecipazione direttamente dell’ICDL e permette di avere accesso al livello di formazione successiva (il Corso Base DIR201) all’intero del piano formativo di Certificazione per diventare terapista DIR-Floortime. \nDocenti:\nDott.ssa Sabina Baratelli (Neuropsichiatra Infantile\, Trainer ICDL e Didatta DIRimè)\nDott.ssa Barbara Cravero (Psicologo\, Trainer ICDL e Didatta DIRimè)\nDott.ssa Barbara Purpi (Educatore\, Trainer ICDL e Didatta DIRimè) \nIl corso rilascia 11 crediti ECM per le figure professionali coinvolte.\nLa partecipazione al corso è gratuita per i genitori (previa iscrizione associativa). \nScarica la LOCANDINA del corso DIR101 per il Programma completo. \nPer iscrizioni: Compila il MODULO Iscrizione DIR101 Milano e il Modulo d’Iscrizione a DIRimè Italia.  \nInvia i moduli compilati\, unitamente alla ricevuta di pagamento\, all’indirizzo email: segreteria@dirime.com
URL:https://www.dirime.com/eventi/corso-introduttivo-dir101-a-milano/
CATEGORIES:Corsi di Certificazione DIRime’- ICDL
ATTACH;FMTTYPE=:
END:VEVENT
BEGIN:VEVENT
DTSTART;TZID=Europe/Rome:20161216T083000
DTEND;TZID=Europe/Rome:20161217T130000
DTSTAMP:20260421T045920
CREATED:20161011T203908Z
LAST-MODIFIED:20161011T203908Z
UID:3657-1481877000-1481979600@www.dirime.com
SUMMARY:Corso Introduttivo DIR101 a Macerata
DESCRIPTION:16-17 Dicembre 2016\nCorso introduttivo al modello DIR (DIR101) a Macerata\n\nLuogo: Centro di Riabilitazione ANFFAS\, Via Vanvitelli 34\, Macerata \nDIRimè\, grazie alla collaborazione con ANFFAS Macerata è lieta di offrire l’ultima occasione formativa per il 2016: il corso introduttivo sul modello DIR (DIR101) certificato dall’ICDL (Interdisciplinary Council of Development and Learning). \n  Che cos’è il corso DIR101 ?\n  Il DIR101 è il primo corso introduttivo necessario per poter accedere al percorso di Certificazione nel modello DIR-Floortime  riconosciuto dall’ICDL Institute. Il corso rilascia l’attestato di partecipazione direttamente dell’ICDL e permette di avere accesso al livello di formazione successiva (il Corso Base DIR201) all’intero del piano formativo di Certificazione per diventare terapista DIR-Floortime. \nDocenti:\n Dott.ssa Giulia Campatelli (Psicologo\, Didatta DIRimè)\n Dott.ssa Roberta Nencioli (Logopedista\, Didatta DIRimè) \n Il corso rilascia 11 crediti ECM per le figure professionali coinvolte. La partecipazione al corso è gratuita per i genitori (previa iscrizione associativa).  \nPer iscrizioni: scarica il modulo-iscrizione-dir101-macerata e  il modulo d’iscrizione a DIRimè e inviali unitamente alla ricevuta di pagamento a info@dirime.com \nCorso DIR101 Macerata DIR-Floortime DIRime’ \n  \n  \n  \n  \n 
URL:https://www.dirime.com/eventi/corso-introduttivo-dir101-in-sardegna/
CATEGORIES:Corsi di Certificazione DIRime’- ICDL
ATTACH;FMTTYPE=:
END:VEVENT
BEGIN:VEVENT
DTSTART;TZID=Europe/Rome:20161029T140000
DTEND;TZID=Europe/Rome:20161029T180000
DTSTAMP:20260421T045920
CREATED:20161011T183514Z
LAST-MODIFIED:20161011T183514Z
UID:37-1477749600-1477764000@www.dirime.com
SUMMARY:I Seminario Tematico: "Riflessioni sul Parent Coaching: creare le basi per il coinvolgimento genitoriale"
DESCRIPTION:DIRimè arricchisce le proprie iniziative formative con la novità dei Seminari Tematici per approfondire aspetti specifici del modello DIR\, mantenere vivo lo scambio tra i terapisti sul territorio\, promuovere il continuo aggiornamento professionale.  \nNella giornata di Sabato 29 Ottobre presso l’IRCCS Stella Maris si svolgerà il primo Seminario Tematico “Riflessioni sul Parent Coaching: creare le basi per il coinvolgimento genitoriale“.  \nIl seminario  e’ rivolto a 15 terapisti Soci DIRime’ in possesso della Certificazione DIR101 o superiore.    \nPer iscriversi\, compilare il Modulo di iscrizione e inviarlo a info@dirime.com assieme al bonifico effettuato\, entro il 15 Ottobre 2016.  \n \n  
URL:https://www.dirime.com/eventi/i-seminario-tematico-riflessioni-sul-parent-coaching-creare-le-basi-per-il-coinvolgimento-genitoriale/
CATEGORIES:Seminari tematici DIRimè
ATTACH;FMTTYPE=:
END:VEVENT
BEGIN:VEVENT
DTSTART;VALUE=DATE:20161015
DTEND;VALUE=DATE:20161017
DTSTAMP:20260421T045920
CREATED:20160915T211747Z
LAST-MODIFIED:20160915T211747Z
UID:3658-1476489600-1476662399@www.dirime.com
SUMMARY:Corso introduttivo al modello DIR (DIR101) a Torino – POSTI ESAURITI-
DESCRIPTION:ATTENZIONE I POSTI DISPONIBILI SONO TERMINATI \n  \n \n  \n15 – 16 Ottobre 2016\nTORINO\nDIRimè\, grazie alla collaborazione con lo Studio Maya (www.etaevolutivamaya.it)\, e con il patrocinio di Aias Milano onlus e SINPIA Società Italiana di neuropsichiatria dell’Infanzia e dell’adolescenza sezione Piemonte\, è lieta di offrire un’occasione formativa nella città di Torino: un corso introduttivo sul modello DIR (DIR101) certificato dall’ICDL (Interdisciplinary Council of Development and Learning). \n DIRimè è impegnata nella diffusione del modello DIR in Italia e organizza corsi riconosciuti dall’organizzazione americana ICDL (Interdisciplinary Council of Development and Learning)\, casa madre del modello DIR di Stanley Greenspan. \n Che cos’è il corso DIR101 ?\nIl DIR101 è il primo corso introduttivo necessario per poter accedere al percorso di certificazione nel modello DIRFloortime®  riconosciuto dall’ICDL. \nI partecipanti otterranno un attestato di partecipazione direttamente dall’ICDL e questo permetterà loro di avere accesso al livello di formazione successiva (DIR201)\, inizio del programma per diventare terapista DIR Floortime. \nDocenti: \nDott.ssa Sabina Baratelli (NPI\, Didatta DIRimè) \nDott.ssa Barbara Cravero (Psicologo\, Didatta DIRimè) \nDott.ssa Stefania Menconi (TNPEE\, Didatta DIrimè). \nIl presente corso rilascia 12 crediti ECM per le figure professionali coinvolte. \nLa partecipazione al corso è gratuita per i genitori (previa iscrizione associativa) \nPer iscrizioni: scarica moduli di iscrizione che trovi qui sotto ed inviali unitamente alla ricevuta di pagamento ainfo@dirime.com \nTrovi i dettagli del programma completo in locandina. \nLocandina DIR101 Torino \nModulo corso DIR101 Torino \nModulo Iscrizione DIRimè
URL:https://www.dirime.com/eventi/corso-introduttivo-al-modello-dir-dir101-a-torino-posti-esauriti/
CATEGORIES:Corsi di Certificazione DIRime’- ICDL
ATTACH;FMTTYPE=:
END:VEVENT
END:VCALENDAR