BEGIN:VCALENDAR
VERSION:2.0
PRODID:-//DIRimè Italia - ECPv6.15.18//NONSGML v1.0//EN
CALSCALE:GREGORIAN
METHOD:PUBLISH
X-WR-CALNAME:DIRimè Italia
X-ORIGINAL-URL:https://www.dirime.com
X-WR-CALDESC:Eventi per DIRimè Italia
REFRESH-INTERVAL;VALUE=DURATION:PT1H
X-Robots-Tag:noindex
X-PUBLISHED-TTL:PT1H
BEGIN:VTIMEZONE
TZID:Europe/Rome
BEGIN:DAYLIGHT
TZOFFSETFROM:+0100
TZOFFSETTO:+0200
TZNAME:CEST
DTSTART:20230326T010000
END:DAYLIGHT
BEGIN:STANDARD
TZOFFSETFROM:+0200
TZOFFSETTO:+0100
TZNAME:CET
DTSTART:20231029T010000
END:STANDARD
BEGIN:DAYLIGHT
TZOFFSETFROM:+0100
TZOFFSETTO:+0200
TZNAME:CEST
DTSTART:20240331T010000
END:DAYLIGHT
BEGIN:STANDARD
TZOFFSETFROM:+0200
TZOFFSETTO:+0100
TZNAME:CET
DTSTART:20241027T010000
END:STANDARD
BEGIN:DAYLIGHT
TZOFFSETFROM:+0100
TZOFFSETTO:+0200
TZNAME:CEST
DTSTART:20250330T010000
END:DAYLIGHT
BEGIN:STANDARD
TZOFFSETFROM:+0200
TZOFFSETTO:+0100
TZNAME:CET
DTSTART:20251026T010000
END:STANDARD
BEGIN:DAYLIGHT
TZOFFSETFROM:+0100
TZOFFSETTO:+0200
TZNAME:CEST
DTSTART:20260329T010000
END:DAYLIGHT
BEGIN:STANDARD
TZOFFSETFROM:+0200
TZOFFSETTO:+0100
TZNAME:CET
DTSTART:20261025T010000
END:STANDARD
END:VTIMEZONE
BEGIN:VEVENT
DTSTART;TZID=Europe/Rome:20240920T080000
DTEND;TZID=Europe/Rome:20241220T170000
DTSTAMP:20260425T153931
CREATED:20240502T092458Z
LAST-MODIFIED:20240801T134230Z
UID:9308-1726819200-1734714000@www.dirime.com
SUMMARY:Corso DIR202-Proficient\, edizione 2024
DESCRIPTION:Il formato del Corso\nIl Corso DIR202-Proficient è il secondo livello formativo della Certificazione DIRFloortime. Il corso ha durata di 14 settimane organizzate in 2 finesettimana intensivi in presenza presso l’IRCCS Stella Maris di Pisa. \nIl Corso DIR202-Proficient offre due docenti multidisciplinari (con Certificazione ICDL DIR-204 – DIR Expert Providers and Training Leader)\, lezioni teoriche\, esercitazioni di gruppo\, discussioni di casi clinici e videoanalisi. \nIl Corso DIR202-Proficient è a numero chiuso\, per un massimo di 10 partecipanti.  Al termine di ogni weekend intensivo\, ciascun professionista riceve indicazioni personalizzate per la pratica Floortime e la supervisione da svolgere per rafforzare la propria padronanza del modello DIRFloortime. \nIl corso è svolto con il riconoscimento e in collaborazione con ICDL Institute.   \nContenuti del Corso\nIl Corso DIR202-Proficient si focalizza sull’acquisizione di competenze specifiche per supportare le prime 6 capacità neuroevolutive (FEDC) e per applicare i principi del Floortime attraverso interazioni personalizzate sul profilo individuale: affettivo-comunicativo\, cognitivo e sensori-motorio. \nIl Corso rilascia accreditamento ECM. \nDestinatarə\nNeuropsichiatrə Infantili\, Pediatrə \, Psicologə\, Terapistə della Neuro e Psicomotricità dell’Evolutiva\, Terapistə Occupazionali\, Logopedistə\, Terapistə della Riabilitazione Psichiatrica\, Fisioterapistə\, Pedagogistə\, Psicomotricistə\, Arteterapeutə\, Educatori e Insegnanti. \n  \nRequisiti\nPer accedere al DIR202 occorre essere in possesso di Certificato DIR201-Basic. Ai fini del raggiungimento della Certificazione DIR202-Proficient\, oltre al raggiungimento dei criteri formativi previsti\, occorre completare almeno 9 ore di supervisione con supervisorə DIRimè o ICDL Institute entro la fine del corso. \nSi consiglia vivamente di attivare la supervisione quanto prima e di non limitarla soltanto ai due casi da presentare al Corso. Lə  partecipante può decidere in autonomia quando e con quali figure professionali attivare la propria supervisione; i costi della supervisione non rientrano nella tariffa del Corso.  \n  \nCertificazione rilasciata\nIl completamento dei criteri formativi previsti permette il rilascio del Certificato DIRFloortime®Proficient da parte di ICDL Institute. E’ possibile quindi procedere alla registrazione nella Mappa deə Terapistə DIRFloortime in Italia sul sito di DIRimè. \n  \nDate e luogo\n20-21 settembre 2024\, I weekend \n20-21 dicembre 2024\, II weekend \npresso IRCCS Stella Maris\, Viale del Tirreno 331\, Calambrone (PI). \n  \nTariffe e iscrizioni\nTariffa Early Bird (per iscrizioni effettuate entro il 18 maggio 2024) : \n\nOperatorə NON ancora Socə Dirimè 2024: 1160 euro\nOperatorə  già Socə Dirimè 2024: 1125 euro\n\nTariffa completa: \n\nOperatorə NON ancora Socə : 1460euro\nOperatorə  già Socə : 1425 euro\n\nE’ possibile il pagamento rateale della quota: I rata 660\,00 euro per i NON Socə e 625\,00 euro per i già Socə contestualmente all’iscrizione; II rata entro la chiusura delle iscrizioni. \nPer gli Enti i costi sono da intendersi IVA esclusa. \nLinee Guida per la partecipazione\nLinee Guida terapisti della riabilitazione \n  \nModalità di iscrizione:\n\nSei unə Operatorə in possesso di Attestato ICDL DIR201 e già Sociə 2024? Clicca qui\nSei unə Operatorə in possesso di Attestato ICDL DIR201 e NON ANCORA Sociə 2024? Clicca qui\n\n  \nScarica la locandina \n \n \n 
URL:https://www.dirime.com/eventi/corso-dir202-proficient-edizione-2024-2/
LOCATION:IRCCS Stella Maris\, Viale del Tirreno 331\, Calambrone (PI)\, 56128\, Italia
CATEGORIES:Corsi di Certificazione DIRime’- ICDL,Corsi DIR202-Proficient,Corsi ECM in presenza,Corsi in presenza
ATTACH;FMTTYPE=image/jpeg:https://www.dirime.com/wp-content/uploads/2024/05/DIR202-scaled.jpg
END:VEVENT
BEGIN:VEVENT
DTSTART;TZID=Europe/Rome:20240920T080000
DTEND;TZID=Europe/Rome:20241221T170000
DTSTAMP:20260425T153931
CREATED:20240502T092034Z
LAST-MODIFIED:20240506T124904Z
UID:9304-1726819200-1734800400@www.dirime.com
SUMMARY:Corso DIR201-Basic\, edizione 2024
DESCRIPTION:Il formato del Corso\nIl Corso DIR201-Basic è il primo livello formativo della Certificazione DIRFloortime. Il corso ha durata di 14 settimane organizzate in 2 finesettimana intensivi in presenza presso l’IRCCS Stella Maris di Pisa. \nIl Corso DIR201-Basic offre due docenti multidisciplinari (con Certificazione ICDL DIR-204 – DIR Expert Providers and Training Leader)\, lezioni teoriche\, esercitazioni ed esperienze di gruppo\, discussioni di casi clinici e videoanalisi. \nIl Corso DIR201-Basic è a numero chiuso\, per un massimo di 10 partecipanti.  Al termine di ogni weekend intensivo\, ciascun professionista riceve indicazioni personalizzate per la pratica Floortime e la supervisione da svolgere per rafforzare la propria padronanza del modello DIRFloortime. \nIl corso è svolto con il riconoscimento e in collaborazione con ICDL Institute.   \nContenuti del Corso\nIl Corso DIR201-Basic si focalizza sull’acquisizione di competenze specifiche per supportare le prime 4 capacità neuroevolutive (FEDC) e per applicare i principi del Floortime attraverso interazioni personalizzate sul profilo individuale: affettivo-comunicativo\, cognitivo e sensori-motorio. \nIl Corso rilascia accreditamento ECM. \nDestinatarə\nNeuropsichiatrə Infantili\, Pediatrə \, Psicologə\, Terapistə della Neuro e Psicomotricità dell’Evolutiva\, Terapistə Occupazionali\, Logopedistə\, Terapistə della Riabilitazione Psichiatrica\, Fisioterapistə\, Pedagogistə\, Psicomotricistə\, Arteterapeutə\, Educatori e Insegnanti. \n  \nRequisiti\nPer accedere al Corso DIR201 occorre essere in possesso di Attestato di partecipazione introduttivo ICDL DIR101. Ai fini del raggiungimento della Certificazione DIR201-Basic\, oltre al raggiungimento dei criteri formativi previsti\, occorre completare almeno 9 ore di supervisione con supervisorə DIRimè o ICDL Institute entro la fine del corso. \nSi consiglia vivamente di attivare la supervisione quanto prima e di non limitarla soltanto ai due casi da presentare al Corso. Lə  partecipante può decidere in autonomia quando e con quali figure professionali attivare la propria supervisione; i costi della supervisione non rientrano nella tariffa del Corso.  \n  \nCertificazione rilasciata\nIl completamento dei criteri formativi previsti permette il rilascio del Certificato DIRFloortime® Basic da parte di ICDL Institute. E’ possibile quindi procedere alla registrazione nella Mappa deə Terapistə DIRFloortime in Italia sul sito di DIRimè. \n  \nTariffe e iscrizioni\nTariffa Early Bird (fino al 18 maggio 2024) : \n\nOperatorə NON ancora Socə 2023: 1160 euro\nOperatorə  già Socə: 1125 euro\n\nTariffa completa: \n\nOperatorə NON ancora Socə : 1460 euro\nOperatorə  già Socə : 1425 euro\n\nE’ possibile il pagamento rateale della quota: I rata 660 euro per i NON Socə e 625 euro per i già Socə contestualmente all’iscrizione; II rata entro la chiusura delle iscrizioni. \nPer gli Enti i costi sono da intendersi IVA esclusa. \nLinee Guida per la partecipazione\nA breve caricheremo le Linee Guida e obiettivi formativi per l’edizione 2024.  Nel frattempo\, puoi consultare quelle dell’anno precedente per la tua categoria professionale: \n\nProfessioni sanitarie della riabilitazione\nPsicomotricistə\nInsegnanti\nMusicoterapeutə\n\n  \nModalità di iscrizione:\n\nLe iscrizioni sono attualmente chiuse per sold out\n\nAttenzione! Possono partecipare al corso solo gli operatori in possesso del Certificato DIR101 \nScarica la locandina \n  \n \n \n 
URL:https://www.dirime.com/eventi/corso-dir201-basic-edizione-2024-2/
LOCATION:IRCCS Stella Maris\, Viale del Tirreno 331\, Calambrone (PI)\, 56128\, Italia
CATEGORIES:Corsi di Certificazione DIRime’- ICDL,Corsi DIR201-basic,Corsi ECM in presenza,Corsi in presenza,Prossimo Corso
ATTACH;FMTTYPE=image/jpeg:https://www.dirime.com/wp-content/uploads/2024/05/DIR201-2-scaled.jpg
END:VEVENT
BEGIN:VEVENT
DTSTART;TZID=Europe/Rome:20241107T170000
DTEND;TZID=Europe/Rome:20241128T190000
DTSTAMP:20260425T153931
CREATED:20240730T072437Z
LAST-MODIFIED:20241113T091737Z
UID:9672-1730998800-1732820400@www.dirime.com
SUMMARY:Corso Dirimè per la scuola
DESCRIPTION:Strumenti teorici e pratici per osservare e comprendere i comportamenti del bambino a scuola in un’ottica  evolutiva ed individualizzata. \n\n\n\n\nLa  scuola rappresenta un ambiente educativo e sociale deputato a supportare la crescita globale del bambino. Un tema centrale è quindi quello dell’inclusione soprattutto in merito a bambin*/ragazz* che presentano una disabilità\, un disturbo del neurosviluppo e/o sono neurodivergenti. \nQuesto corso si propone di fornire alle e agli insegnanti nuovi strumenti teorici e pratici per osservare e comprendere i comportamenti de* bambin* in un’ottica  evolutiva ed individualizzata e poter mettere in atto gli adattamenti necessari per un’esperienza di apprendimento davvero positiva ed  inclusiva per tutto il gruppo classe. \nObiettivi formativi: \n\nConoscere le caratteristiche dell’Autismo e i Disturbi del Neurosviluppo secondo la nuova prospettiva della neurodiversità umana\nConoscere l’impatto delle differenze individuali e della relazione sull’apprendimento e sul comportamento \nApprendere nuovi strumenti per guardare  globalmente e in modo integrato al profilo individuale di ciascun alunn*\nElaborare il PEI in ottica evolutivo-relazionale\nSaper utilizzare un linguaggio comune nel  lavoro di rete che include scuola-famiglia-interventi di supporto.\n\n\n\n\n  \nProgramma formativo: \n1° Incontro 2h \n\nApprofondimento su Autismo e disturbi del neurosviluppo  \nInclusione scolastica e contributo dell’approccio evolutivo-relazionale\n\n2° Incontro 2h \n\nLe capacità dello sviluppo alla base dell’ apprendimento\n\n\nOsservare e comprendere le caratteristiche alla base dei differenti profili individuali e il loro impatto sulla partecipazione e l’apprendimento.\nCome supportare i diversi profili nel contesto didattico\n\n3° Incontro 2h  \n\nElaborare il l PEI in ottica evolutivo-relazionale \n\n4° Incontro 2h \n\nCoinvolgere la classe nella comprensione e nel supporto ai diversi profili individuali\n\n\nIl lavoro di équipe e di rete insieme a famiglia e operator* per una presa in carico globale e multidisciplinare\nCompilazione questionario\n\n\n\n\n\nDestinatarə\nInsegnanti della scuola dell’infanzia\, primaria e secondaria di primo e secondo grado. \n\n4 incontri On line su piattaforma Zoom   \nDate: 7-14-21-28 novembre 2024  \ndalle 17.00 alle 19.00 \nChiusura iscrizioni: 24 ottobre 2024\n\nDocente\n \n  \nDott.ssa Sandy D’Alessandro\nPsicologa dell’età evolutiva\, specializzata in psicologia pediatrica\, docente e supervisore DIRFloortime\, insegnante di sostegno scuola secondaria di secondo grado \n\nQuote di iscrizione:\nLe quote sono comprensive di tesseramento come Sociə 2024\,  35 euro \n\nProfessionistə Socə DIRimè 2024: 150 euro\nProfessionistə non ancora Socə Dirimè: 185 euro (comprensivi di tesseramento 2024)\n\n  \n\nTariffa Early Bird (fino al 30 settembre 2024) :\n\nProfessionistə non Socə DIRimè 2024: 135 euro (comprensivi di tesseramento 2024)\nProfessionistə Socə DIRimè2024: 100 euro\n\n\n\n♦Attenzione! Per il pagamento della tariffa Early Bird procedere selezionando la tariffa piena\, scegliere la modalità di pagamento preferita (Paypal o Conto corrente) e versare l’importo ridotto. \nPer gli Enti e le Associazioni le tariffe sono da intendersi IVA esclusa. \n  \nModalità di iscrizione online: \n\nSei  già Sociə 2024? Clicca qui\nSei  NON ANCORA Sociə 2024? Clicca qui\n\n  \nScarica la locandina \n  \n 
URL:https://www.dirime.com/eventi/corso-dirime-per-la-scuola/
LOCATION:piattaforma ZOOM
CATEGORIES:Corsi online ECM,Corso per la scuola,Prossimo Corso
ATTACH;FMTTYPE=image/jpeg:https://www.dirime.com/wp-content/uploads/2024/07/20240728_scuola-pag-1-1.jpg
END:VEVENT
BEGIN:VEVENT
DTSTART;TZID=Europe/Rome:20241113T210000
DTEND;TZID=Europe/Rome:20241113T223000
DTSTAMP:20260425T153931
CREATED:20241002T080716Z
LAST-MODIFIED:20241007T072527Z
UID:9823-1731531600-1731537000@www.dirime.com
SUMMARY:SOS Genitori
DESCRIPTION:Spazio interattivo gratuito di domande e confronto tra Genitori e Operatorə\nNuovo appuntamento  con SOS Genitori\, spazio interattivo di consulenza gratuita per i Genitori Socə DIRimè. \nSOS Genitori permette di fare domande\, ricevere suggerimenti e consulenza\, confrontarsi con altre famiglie e con esperti di diverse aree neuroevolutive\, in prospettiva DIRFloortime di rispetto del bambino\, dei suoi punti di forza\, e del pieno coinvolgimento genitoriale. \nIl tema del mese\nSOS Genitori è uno spazio di confronto e domande\, pensato per le famiglie neuroatipiche. \n\nNell’appuntamento di novembre\, insieme al Pediatra e Neonatologo Dott. Gherardo Rapisardi\, ci confronteremo sul tema dei TouchPoints per capire come riconoscerli e comprenderli per supportare lo sviluppo dei bambinə.\nL’incontro offrirà uno spazio sicuro gratuito dedicato al confronto tra genitori e professionista per condividere le sfide quotidiane e offrire strategie pratiche e personalizzate. \n\n\nDocente:\n\n\n\n\n\nDott. Gherardo Rapisardi\nPediatra e Neonatologo\, formatore approccio Touchpoints\nBrazelton\, Firenze \nDESTINATARI: \nGenitori di bambinə e ragazzə neurodivergentə Soci 2024 \nIscrizioni:\n\nSei un genitore di bambinə e ragazzə neurodivergentə\, già sociə 2024? Clicca qui\nSei un genitore di bambinə e ragazzə neurodivergentə\, NON ANCORA sociə 2024? Clicca qui\n\n  \nScarica la locandina
URL:https://www.dirime.com/eventi/sos-genitori-11/
LOCATION:piattaforma ZOOM
CATEGORIES:Prossimo Corso
ATTACH;FMTTYPE=image/jpeg:https://www.dirime.com/wp-content/uploads/2024/10/SOS-GENITORI-novembre-2024-copia-3-1.jpg
END:VEVENT
BEGIN:VEVENT
DTSTART;TZID=Europe/Rome:20241119T210000
DTEND;TZID=Europe/Rome:20251217T223000
DTSTAMP:20260425T153931
CREATED:20240531T094455Z
LAST-MODIFIED:20241107T163030Z
UID:9506-1732050000-1766010600@www.dirime.com
SUMMARY:Gruppo di Supervisione DIRFloortime
DESCRIPTION:La supervisione è una risorsa essenziale per l’Operatorə DIRFloortime\, permettendo di mantenere il proprio intervento in prospettiva multidisciplinare e globale a sostegno dell’intera famiglia. \n\nIl gruppo di supervisione DIRFloortime di DIRimè offre 1 incontro conoscitivo e 4 incontri di supervisione online in piccolo gruppo\, per un totale di 6 ore di supervisione\, con un Supervisorə certificatə che accompagna ciascun operatorə attraverso un percorso di videoanalisi\, autoriflessione e indicazioni pratiche sul proprio materiale video. \nDate e luogo:  \n19-26 novembre \n3-10-17 dicembre 2024 \nOre 21:00-22:30\, su ZOOM \nDocente:\n \nDott.ssa  \nIrene Aliperta \n\n\nTNPEE\nTerapista DIRFloortime\nICDL DIR203-Advanced \nDestinatarə:\nOperatorə con Attestato ICDL DIR101 o Certificazione DIRFloortime superiore\, Socə 2024. \nIscrizioni qui:\n\nLe iscrizioni sono attualmente chiuse per sold out. Se desideri iscriverti al prossimo gruppo di Supervisione contatta la Segreteria DIRimè al numero 379-1644669.\n\nScarica la locandina
URL:https://www.dirime.com/eventi/gruppo-di-supervisione-dirfloortime-11/
LOCATION:piattaforma ZOOM
CATEGORIES:Gruppi di supervisione,Gruppo di discussione casi,Incontri di Supervisione,Prossimo Corso
ATTACH;FMTTYPE=image/jpeg:https://www.dirime.com/wp-content/uploads/2024/05/2024_SUPERVISIONE_nov-dic-1-2-1-copia-scaled.jpg
END:VEVENT
BEGIN:VEVENT
DTSTART;TZID=Europe/Rome:20241120T210000
DTEND;TZID=Europe/Rome:20241120T230000
DTSTAMP:20260425T153931
CREATED:20241007T071256Z
LAST-MODIFIED:20241117T093155Z
UID:9838-1732136400-1732143600@www.dirime.com
SUMMARY:Webinar "Aiutiamo i bambini a fare ciò...che hanno bisogno di fare"
DESCRIPTION:Strategie DIRFloortime per lo sviluppo naturale delle prassie \n  \nPer creare la Cultura della Neurodiversità\, DIRimè offre i Webinar Gratuiti . Per il 2024\, i Webinar Gratuiti si estendono a tuttə ə Socə! \nOgni mese\, contenuti pensati per i Genitori e Operatorə con professionistə di diversi ambiti disciplinari\, approfondimenti e strategie pratiche per la vita quotidiana in supporto al benessere deə bambinə e dell’intera famiglia. \n  \nContenuto\nCome seguire le intenzioni e i desideri deə bambinə per aiutarlə a comprendere il mondo e apprendere nuovi gesti motori in modo naturale e spontaneo\, per fare ciò che desiderano\, devono o hanno bisogno di fare. Vedremo come nutrire la regolazione emotiva\, le nuove idee e come sfruttare la neuroplasticità trasformando ogni momento quotidiano in un’opportunità di sviluppo di strategie pratiche per l’autonomia. \n\nDocente\n\n\n\n\nDott. Simone Cobetto Ghiggia \n \n\n\n\n\nTerapista Occupazionale\, \nTerapista DIR Floortime Advanced certificato ICDL DIR 203. \n\n\nDestinatari\n\nTuttə ə Sociə 2024\, nell’ottica di creare valore e condividere un nuovo sguardo. \n\n\n\n\nDate e luogo\n\n\n\nGiovedì 20 novembre ore 21:00 online su ZOOM \nIscrizioni\n\nLe iscrizioni sono attualmente chiuse\n\n\nModalità di partecipazione:\nIl giorno precedente al Webinar\, ti invieremo la comunicazione con il link di accesso. Il meeting su ZOOM verrà attivato poco prima dell’inizio del Webinar. \n  \nScarica la locandina
URL:https://www.dirime.com/eventi/webinar-aiutiamo-i-bambini-a-fare-cio-che-hanno-bisogno-di-fare/
LOCATION:piattaforma ZOOM
CATEGORIES:Home page - In evidenza,Prossimo Corso,Webinar
ATTACH;FMTTYPE=image/jpeg:https://www.dirime.com/wp-content/uploads/2024/10/2024_Webinar-Aiutiamo-i-bambini-a-fare.quello-che-hanno-bisogno-di-fare-scaled.jpg
END:VEVENT
BEGIN:VEVENT
DTSTART;TZID=Europe/Rome:20241130T083000
DTEND;TZID=Europe/Rome:20241130T170000
DTSTAMP:20260425T153931
CREATED:20240916T091139Z
LAST-MODIFIED:20241202T103634Z
UID:9781-1732955400-1732986000@www.dirime.com
SUMMARY:Corso avanzato"Neuroscienze e integrazione sensoriale"
DESCRIPTION:Fondamenti per la comprensione del profilo  individuale e l’interpretazione del comportamento\n\n\n\n\nQuesto corso è pensato per fornire ai partecipanti le informazioni necessarie per la valutazione dei processi e delle disfunzioni sensoriali alla luce delle più recenti ricerche nel campo delle Neuroscienze.  In particolare\, all’interno del corso\, verranno prese in esame gli aspetti salienti della percezione somatosensoriale e verranno proposte varie esperienze di apprendimento utili a  stimolare il ragionamento clinico ed affinare la capacità di osservazione per comprendere in modo globale le necessità sensoriali dell’individuo.\n\n\n\n\n♦Il Corso prevede il rilascio di 9 crediti ECM\n  \nProgramma formativo: \n8.30 Registrazione partecipanti \n9.00 – 10.30 La terapia di integrazione sensoriale:  Storia – Classificazioni – Il contributo della conoscenza del profilo individuale nel trattamento dei disturbi del   neurosviluppo \n10.30 10.45  Pausa \n10.45- 12.00 La ricerca scientifica e le evidenze:  modalità di raccolta delle informazioni\nAnamnesi – Questionari per caregiver – Osservazione (strutturata e non strutturata) –\nStrumenti standardizzati \n12.00-13.00 Pausa pranzo \n13.00-14.30 I sistemi somato-sensoriali e il loro contributo alla costruzione delle esperienze\nIntroduzione: cenni teorici e pratici sulla percezione somatosensoriale \nSistema tattile : Neurofisiologia – Funzione – Pattern di disfunzione – Valutazioneso \nSistema Propriocettivo : Neurofisiologia – Funzione – Pattern di disfunzione -Valutazione \n14.00-14.45  Pausa \n14.45- 15.30 \nSistema vestibolare: Neurofisiologia – Funzione – Pattern di disfunzione – Valutazione \n15.30 – 16.30 Parte pratica: Analisi e discussione di 1-2 casi clinici – Attraverso filmati e materiale clinico (test e\nquestionari) i partecipanti verranno guidati nel ragionamento clinico necessario alla definizione delle priorità dell’intervento \n16.30 -17.00 Questionario ECM \n17.00 Chiusura dei lavori\n\n\n\nDestinatarə\nProfessionisti dell’ambito sanitario e riabilitativo tra cui TNPEE\, terapisti occupazionali\, logopedisti\, psicologi\, educatori professionali\, neuropsichiatri infantili\, fisioterapisti\, tecnici della riabilitazione psichiatrica. \n\nData: 30 novembre 2024 \nChiusura iscrizioni:  16 novembre 2024\n\nDocente\n\nDott.ssa Stefania Menconi\nTNPEE\, Expert DIRFloortime Provider e Training Leader ICDL\, Dottoressa magistrale in Scienze Cognitive\, Stefania collabora con DIRimè sin dalla fondazione. Stefania è formata anche come terapista d’integrazione sensoriale e lavora in un servizio territoriale dove svolge attività clinica e di ricerca. \n\n  \nQuote di iscrizione:\n– Professionistə  Socə DIRimè 2024: 125€\n– Professionistə non ancora Socə DIRimè 2024: 155 €\n\nRiduzioni per Socə degli enti patrocinanti e per gruppi con almeno 5 partecipanti:\n– Professionistə Socə DIRimè 2024: 115 €\n– Professionistə non ancora Socə DIRimè 2024: 145 €\n\nTariffa Early bird (fino al 26 ottobre 2024):\n– Professionistə Socə DIRimè 2024: 85 €\n– Professionistə non ancora Socə DIRimè 2024: 115 €\n  \n♦Attenzione! Per usufruire della tariffa ridotta riservata ai Socə degli Enti Patrocinanti o ai Gruppi con almeno 5 partecipanti contattare la Segreteria al numero 379-1644669 \nPer gli Enti e le Associazioni le tariffe sono da intendersi IVA esclusa. \n  \nModalità di iscrizione online: \n\nLe iscrizioni sono attualmente chiuse\n\n\n\n\n\n\n  \nScarica la locandina \n 
URL:https://www.dirime.com/eventi/corso-avanzato-neuroscienze-e-integrazione-sensoriale-dirime-dirfloortime/
LOCATION:piattaforma ZOOM
CATEGORIES:Corsi online ECM,Home page - In evidenza,Prossimo Corso
ATTACH;FMTTYPE=image/jpeg:https://www.dirime.com/wp-content/uploads/2024/09/20240915_neurosc-foglio-1-1-scaled.jpg
END:VEVENT
END:VCALENDAR