BEGIN:VCALENDAR
VERSION:2.0
PRODID:-//DIRimè Italia - ECPv6.15.18//NONSGML v1.0//EN
CALSCALE:GREGORIAN
METHOD:PUBLISH
X-ORIGINAL-URL:https://www.dirime.com
X-WR-CALDESC:Eventi per DIRimè Italia
REFRESH-INTERVAL;VALUE=DURATION:PT1H
X-Robots-Tag:noindex
X-PUBLISHED-TTL:PT1H
BEGIN:VTIMEZONE
TZID:Europe/Rome
BEGIN:DAYLIGHT
TZOFFSETFROM:+0100
TZOFFSETTO:+0200
TZNAME:CEST
DTSTART:20230326T010000
END:DAYLIGHT
BEGIN:STANDARD
TZOFFSETFROM:+0200
TZOFFSETTO:+0100
TZNAME:CET
DTSTART:20231029T010000
END:STANDARD
BEGIN:DAYLIGHT
TZOFFSETFROM:+0100
TZOFFSETTO:+0200
TZNAME:CEST
DTSTART:20240331T010000
END:DAYLIGHT
BEGIN:STANDARD
TZOFFSETFROM:+0200
TZOFFSETTO:+0100
TZNAME:CET
DTSTART:20241027T010000
END:STANDARD
BEGIN:DAYLIGHT
TZOFFSETFROM:+0100
TZOFFSETTO:+0200
TZNAME:CEST
DTSTART:20250330T010000
END:DAYLIGHT
BEGIN:STANDARD
TZOFFSETFROM:+0200
TZOFFSETTO:+0100
TZNAME:CET
DTSTART:20251026T010000
END:STANDARD
BEGIN:DAYLIGHT
TZOFFSETFROM:+0100
TZOFFSETTO:+0200
TZNAME:CEST
DTSTART:20260329T010000
END:DAYLIGHT
BEGIN:STANDARD
TZOFFSETFROM:+0200
TZOFFSETTO:+0100
TZNAME:CET
DTSTART:20261025T010000
END:STANDARD
END:VTIMEZONE
BEGIN:VEVENT
DTSTART;TZID=Europe/Rome:20241119T210000
DTEND;TZID=Europe/Rome:20251217T223000
DTSTAMP:20260424T231417
CREATED:20240531T094455Z
LAST-MODIFIED:20241107T163030Z
UID:9506-1732050000-1766010600@www.dirime.com
SUMMARY:Gruppo di Supervisione DIRFloortime
DESCRIPTION:La supervisione è una risorsa essenziale per l’Operatorə DIRFloortime\, permettendo di mantenere il proprio intervento in prospettiva multidisciplinare e globale a sostegno dell’intera famiglia. \n\nIl gruppo di supervisione DIRFloortime di DIRimè offre 1 incontro conoscitivo e 4 incontri di supervisione online in piccolo gruppo\, per un totale di 6 ore di supervisione\, con un Supervisorə certificatə che accompagna ciascun operatorə attraverso un percorso di videoanalisi\, autoriflessione e indicazioni pratiche sul proprio materiale video. \nDate e luogo:  \n19-26 novembre \n3-10-17 dicembre 2024 \nOre 21:00-22:30\, su ZOOM \nDocente:\n \nDott.ssa  \nIrene Aliperta \n\n\nTNPEE\nTerapista DIRFloortime\nICDL DIR203-Advanced \nDestinatarə:\nOperatorə con Attestato ICDL DIR101 o Certificazione DIRFloortime superiore\, Socə 2024. \nIscrizioni qui:\n\nLe iscrizioni sono attualmente chiuse per sold out. Se desideri iscriverti al prossimo gruppo di Supervisione contatta la Segreteria DIRimè al numero 379-1644669.\n\nScarica la locandina
URL:https://www.dirime.com/eventi/gruppo-di-supervisione-dirfloortime-11/
LOCATION:piattaforma ZOOM
CATEGORIES:Gruppi di supervisione,Gruppo di discussione casi,Incontri di Supervisione,Prossimo Corso
ATTACH;FMTTYPE=image/jpeg:https://www.dirime.com/wp-content/uploads/2024/05/2024_SUPERVISIONE_nov-dic-1-2-1-copia-scaled.jpg
END:VEVENT
BEGIN:VEVENT
DTSTART;TZID=Europe/Rome:20250113T210000
DTEND;TZID=Europe/Rome:20250210T223000
DTSTAMP:20260424T231417
CREATED:20241107T205803Z
LAST-MODIFIED:20250110T181643Z
UID:9916-1736802000-1739226600@www.dirime.com
SUMMARY:Gruppo di Supervisione DIRFloortime
DESCRIPTION:La supervisione è una risorsa essenziale per l’Operatorə DIRFloortime\, permettendo di mantenere il proprio intervento in prospettiva multidisciplinare e globale a sostegno dell’intera famiglia. \n\nIl gruppo di supervisione DIRFloortime di DIRimè offre 1 incontro conoscitivo e 4 incontri di supervisione online in piccolo gruppo\, per un totale di 6 ore di supervisione\, con un Supervisorə certificatə che accompagna ciascun operatorə attraverso un percorso di videoanalisi\, autoriflessione e indicazioni pratiche sul proprio materiale video. \nDate e luogo:  \n13-20-27 gennaio \n3-10 febbraio 2025 \nOre 21:00-22:30\, su ZOOM \nDocente:\n \nDott.ssa  \nStefania Menconi \n\n\nTNPEE\nTerapista DIRFloortime\nICDL DIR204 \nDestinatarə:\nOperatorə con Attestato ICDL DIR101 o Certificazione DIRFloortime superiore\, Socə 2025 \nIscrizioni :\n\nLe iscrizioni sono chiuse per sold out\n\n  \nScarica la locandina
URL:https://www.dirime.com/eventi/gruppo-di-supervisione-dirfloortime-12/
LOCATION:piattaforma ZOOM
CATEGORIES:Gruppi di supervisione,Incontri di Supervisione,Prossimo Corso
ATTACH;FMTTYPE=image/jpeg:https://www.dirime.com/wp-content/uploads/2024/11/gennaio-2025-Gruppo-di-Supervisione-scaled.jpg
END:VEVENT
BEGIN:VEVENT
DTSTART;TZID=Europe/Rome:20250215T080000
DTEND;TZID=Europe/Rome:20250216T170000
DTSTAMP:20260424T231417
CREATED:20241222T141032Z
LAST-MODIFIED:20250216T202320Z
UID:9980-1739606400-1739725200@www.dirime.com
SUMMARY:Corso introduttivo DIR101
DESCRIPTION:Il corso DIR101\nIl corso Introduttivo DIR101 al DIRFloortime presenta i principi cardine del modello DIRFloortime® e la sua prospettiva bio-psico-sociale di sostegno alla persona\, alla famiglia e alla scuola. \nIl corso presenta le basi neuroscientifiche del DIRFloortime e i principi di lettura del profilo individuale focalizzando l’attenzione sulle capacità emotivo-funzionali dello sviluppo\, il profilo sensoriale\, motorio e comunicativo della persona\, l’importanza della co-regolazione affettiva nella crescita e nell’apprendimento. Il Corso offre tre docenti multidisciplinari e confronto diretto tra operatorə\, genitori e insegnanti. \nIl DIR101 è il primo step formativo necessario per accedere alla certificazione DIRFloortime\, è riconosciuto da ICDL Institute che rilascia l’Attestato di Partecipazione permettendo così l’accesso al livello di formazione successiva (Corso di certificazione DIR201-Basic) DIRFloortime®. \n\n\nDocenti\n\nDr.ssa Barbara Cravero\n(Psicologa\, ICDL DIR204)\n\n\n\nDott.ssa Sandy D’Alessandro\n(Psicologa\, ICDL DIR204)\n\n\nDr.ssa Stefania Menconi\n(TNPEE\, ICDL DIR204)\n\n\n\n\n\n\n\n\n\n\n\n\nDestinatariə\nNeuropsichiatrə Infantilə\, Pediatrə\, Psicologə\, Terapistə Occupazionalə\, Terapistə della Neuro e della Psicomotricità dell’Età Evolutiva\, Terapistə della Riabilitazione Psichiatrica\, Fisioterapistə\, Logopedistə\, Pedagogistə\, Arteterapistə\, Educatorə\, Insegnanti e operatorə scolasticə\,  Studentə universitari\, Genitori di bambinə e ragazzə neurodivergenti. \nIl corso rilascia 16\,5 crediti ECM per le figure professionali coinvolte. \n\nProgramma\nGiornata di Sabato\n8:30 registrazione dei partecipantə \n9:00 DIRimè Italia APS: gli eventi e i progetti per le famiglie\, le risorse per ə professionistə \n9:30 L’Autismo: neurosviluppo e evidenze di ricerca alla base del DIRFloortime \n10:10 Elementi chiave: affettività e Co-regolazione\, interessi e iniziativa spontanea per l’apprendimento e la crescita \n11:15 pausa  \n11:30 Il cuore dello sviluppo umano: le capacità emotivo-funzionali (FEDC) \n13:00 pausa pranzo \n14:00 Le differenze individuali e il profilo sensoriale \n15:30 pausa  \n15:45 Videoanalisi e discussione casi \n17:30 Domande e confronto \n18:00 Chiusura dei lavori \nGiornata di Domenica\n9:00 La relazione con cornice e motore dell’apprendimento \n10:30 pausa  \n10:45 Il Floortime: a casa\, a scuola\, in terapia \n12:30 Domande e questionario ECM \n13:00 Chiusura dei lavori \n  \nQuote di iscrizione\nLe quote sono comprensive di tesseramento come Socio 2025\, 35 euro \n\nOperatorə: 255 euro\nOperatorə Socə 2025 ANUPI TNPEE\, AITO: 210 euro. Per usufruire della quota agevolata inviare a segreteria@dirime.com la conferma dell’iscrizione all’ente patrocinante per l’anno 2025\nGruppi di professionistə di 5 o più persone (non cumulabile con le altre riduzioni): 210 euro. Per attivare la riduzione\, contattare segreteria@dirime.com PRIMA di effettuare il pagamento\nStudentə universitarə: 155 euro. Per usufruire della riduzione\, inviare documento di iscrizione CdL universitario a segreteria@dirime.com\nGenitori di bambinə e ragazzə neurodivergentə: gratuito (previo tesseramento come Sociə 2025)\, 35 euro\n\nPer gli enti e le associazioni le tariffe sono da intendersi IVA esclusa. \n  \nModalità di iscrizione online\n\nLe iscrizioni sono attualmente chiuse\n\nScarica la locandina \n \n \n 
URL:https://www.dirime.com/eventi/corso-introduttivo-dir101-5/
LOCATION:piattaforma ZOOM
CATEGORIES:Corsi di Certificazione DIRime’- ICDL,Corsi DIR101,Corsi online ECM,Prossimo Corso
ATTACH;FMTTYPE=image/jpeg:https://www.dirime.com/wp-content/uploads/2024/12/2025_DIR101_15-16-febbraio-2025-scaled.jpg
END:VEVENT
BEGIN:VEVENT
DTSTART;TZID=Europe/Rome:20250220T080000
DTEND;TZID=Europe/Rome:20250531T180000
DTSTAMP:20260424T231417
CREATED:20250115T101442Z
LAST-MODIFIED:20250228T083642Z
UID:10029-1740038400-1748714400@www.dirime.com
SUMMARY:Corso DIR201-Basic
DESCRIPTION:Il formato del Corso\nIl Corso DIR201-Basic è il primo livello formativo della Certificazione DIRFloortime. Il corso ha durata di 14 settimane organizzate in 2 finesettimana intensivi in presenza presso l’IRCCS Stella Maris di Pisa. \nIl Corso DIR201-Basic offre due docenti multidisciplinari (con Certificazione ICDL DIR-204 – DIR Expert Providers and Training Leader)\, lezioni teoriche\, esercitazioni ed esperienze di gruppo\, discussioni di casi clinici e videoanalisi. \nIl Corso DIR201-Basic è a numero chiuso\, per un massimo di 10 partecipanti.  Al termine di ogni weekend intensivo\, ciascun professionista riceve indicazioni personalizzate per la pratica Floortime e la supervisione da svolgere per rafforzare la propria padronanza del modello DIRFloortime. \nIl corso è svolto con il riconoscimento e in collaborazione con ICDL Institute.   \nContenuti del Corso\nIl Corso DIR201-Basic si focalizza sull’acquisizione di competenze specifiche per supportare le prime 4 capacità neuroevolutive (FEDC) e per applicare i principi del Floortime attraverso interazioni personalizzate sul profilo individuale: affettivo-comunicativo\, cognitivo e sensori-motorio. \nIl Corso rilascia accreditamento ECM. \nDestinatarə\nNeuropsichiatrə Infantili\, Pediatrə \, Psicologə\, Terapistə della Neuro e Psicomotricità dell’Evolutiva\, Terapistə Occupazionali\, Logopedistə\, Terapistə della Riabilitazione Psichiatrica\, Fisioterapistə\, Pedagogistə\, Psicomotricistə\, Arteterapeutə\, Educatori e Insegnanti. \n  \nRequisiti\nPer accedere al Corso DIR201 occorre essere in possesso di Attestato di partecipazione introduttivo ICDL DIR101. Ai fini del raggiungimento della Certificazione DIR201-Basic\, oltre al raggiungimento dei criteri formativi previsti\, occorre completare almeno 9 ore di supervisione con supervisorə DIRimè o ICDL Institute entro la fine del corso. \nSi consiglia vivamente di attivare la supervisione quanto prima e di non limitarla soltanto ai due casi da presentare al Corso. Lə  partecipante può decidere in autonomia quando e con quali figure professionali attivare la propria supervisione; i costi della supervisione non rientrano nella tariffa del Corso.  \n  \nCertificazione rilasciata\nIl completamento dei criteri formativi previsti permette il rilascio del Certificato DIRFloortime® Basic da parte di ICDL Institute. E’ possibile quindi procedere alla registrazione nella Mappa deə Terapistə DIRFloortime in Italia sul sito di DIRimè. \n  \nTariffe e iscrizioni\nTariffa Early Bird (fino al 25 gennaio 2025) : \n\nOperatorə NON ancora Socə 2025: 1160 euro\nOperatorə  già Socə 2025: 1125 euro\n\nTariffa completa: \n\nOperatorə NON ancora Socə 2025 : 1460 euro\nOperatorə  già Socə : 2025 euro\n\nE’ possibile il pagamento rateale della quota: I rata 660 euro per i NON Socə e 625 euro per i già Socə contestualmente all’iscrizione; II rata entro la chiusura delle iscrizioni. \nPer gli Enti i costi sono da intendersi IVA esclusa. \nLinee Guida per la partecipazione\nA breve caricheremo le Linee Guida e obiettivi formativi per l’edizione 2024.  Nel frattempo\, puoi consultare quelle dell’anno precedente per la tua categoria professionale: \n\nProfessioni sanitarie della riabilitazione\nPsicomotricistə\nInsegnanti\nMusicoterapeutə\n\n  \nModalità di iscrizione:\n\nSei unə Operatorə in possesso di Attestato ICDL101 e già Sociə 2025? Clicca qui\nSei unə Operatorə in possesso di Attestato ICDL DIR101 e NON ANCORA Sociə 2025? Clicca qui\n\nAttenzione! Possono partecipare al corso solo gli operatori in possesso del Certificato DIR101 \nScarica la locandina \n \n \nScarica la locandina \n  \n  \n 
URL:https://www.dirime.com/eventi/corso-dir201-basic/
LOCATION:IRCCS Stella Maris\, Viale del Tirreno 331\, Calambrone (PI)\, 56128\, Italia
CATEGORIES:Corsi di Certificazione DIRime’- ICDL,Corsi DIR201-basic,Corsi in presenza,Prossimo Corso
ATTACH;FMTTYPE=image/jpeg:https://www.dirime.com/wp-content/uploads/2025/01/2025_DIR201_FEBBRAIO-MAGGIO_DIRime-scaled.jpg
END:VEVENT
BEGIN:VEVENT
DTSTART;TZID=Europe/Rome:20250224T210000
DTEND;TZID=Europe/Rome:20250324T170000
DTSTAMP:20260424T231417
CREATED:20250110T181528Z
LAST-MODIFIED:20250207T151344Z
UID:10017-1740430800-1742835600@www.dirime.com
SUMMARY:Gruppo di Supervisione DIRFloortime
DESCRIPTION:La supervisione è una risorsa essenziale per l’Operatorə DIRFloortime\, permettendo di mantenere il proprio intervento in prospettiva multidisciplinare e globale a sostegno dell’intera famiglia. \n\nIl gruppo di supervisione DIRFloortime di DIRimè offre 1 incontro conoscitivo e 4 incontri di supervisione online in piccolo gruppo\, per un totale di 6 ore di supervisione\, con un Supervisorə certificatə che accompagna ciascun operatorə attraverso un percorso di videoanalisi\, autoriflessione e indicazioni pratiche sul proprio materiale video. \nDate e luogo:  \n24 febbraio \n3-10 -17-24 marzo 2025 \nOre 21:00-22:30\, su ZOOM \nDocente:\n \nDott.ssa Giulia Campatelli \n\n\n Psicologa psicoterapeuta Terapista DIRFloortime & Training Leader ICDL DIR204 \nDestinatarə:\nOperatorə con Attestato ICDL DIR101 o Certificazione DIRFloortime superiore\, Socə 2025 \nIscrizioni :\n\nLe iscrizioni sono attualmente chiuse per sold out.\n\n  \nScarica la locandina \n \n 
URL:https://www.dirime.com/eventi/gruppo-di-supervisione-dirfloortime-13/
LOCATION:piattaforma ZOOM
CATEGORIES:Gruppi di supervisione,Incontri di Supervisione
ATTACH;FMTTYPE=image/jpeg:https://www.dirime.com/wp-content/uploads/2025/01/2025_SUPERVISIONE_febbraio-marzo-1-scaled.jpg
END:VEVENT
END:VCALENDAR