BEGIN:VCALENDAR
VERSION:2.0
PRODID:-//DIRimè Italia - ECPv6.15.18//NONSGML v1.0//EN
CALSCALE:GREGORIAN
METHOD:PUBLISH
X-WR-CALNAME:DIRimè Italia
X-ORIGINAL-URL:https://www.dirime.com
X-WR-CALDESC:Eventi per DIRimè Italia
REFRESH-INTERVAL;VALUE=DURATION:PT1H
X-Robots-Tag:noindex
X-PUBLISHED-TTL:PT1H
BEGIN:VTIMEZONE
TZID:Europe/Rome
BEGIN:DAYLIGHT
TZOFFSETFROM:+0100
TZOFFSETTO:+0200
TZNAME:CEST
DTSTART:20230326T010000
END:DAYLIGHT
BEGIN:STANDARD
TZOFFSETFROM:+0200
TZOFFSETTO:+0100
TZNAME:CET
DTSTART:20231029T010000
END:STANDARD
BEGIN:DAYLIGHT
TZOFFSETFROM:+0100
TZOFFSETTO:+0200
TZNAME:CEST
DTSTART:20240331T010000
END:DAYLIGHT
BEGIN:STANDARD
TZOFFSETFROM:+0200
TZOFFSETTO:+0100
TZNAME:CET
DTSTART:20241027T010000
END:STANDARD
BEGIN:DAYLIGHT
TZOFFSETFROM:+0100
TZOFFSETTO:+0200
TZNAME:CEST
DTSTART:20250330T010000
END:DAYLIGHT
BEGIN:STANDARD
TZOFFSETFROM:+0200
TZOFFSETTO:+0100
TZNAME:CET
DTSTART:20251026T010000
END:STANDARD
END:VTIMEZONE
BEGIN:VEVENT
DTSTART;TZID=Europe/Rome:20241002T210000
DTEND;TZID=Europe/Rome:20241002T210000
DTSTAMP:20260424T074918
CREATED:20240723T195612Z
LAST-MODIFIED:20241003T205013Z
UID:9660-1727902800-1727902800@www.dirime.com
SUMMARY:Webinar gratuito: "Salti in avanti e regressioni nello sviluppo"
DESCRIPTION:Riconoscere e sostenere i momenti di disorganizzazione del comportamento del bambino.\n  \nPer creare la Cultura della Neurodiversità\, DIRimè offre i Webinar Gratuiti . Per il 2024\, i Webinar Gratuiti si estendono a tuttə ə Socə! \nOgni mese\, contenuti pensati per i Genitori e Operatorə con professionistə di diversi ambiti disciplinari\, approfondimenti e strategie pratiche per la vita quotidiana in supporto al benessere deə bambinə e dell’intera famiglia. \n  \nContenuto\nI Touchpoints sono momenti critici\, ad età prevedibili\, in cui i bambini mostrano salti significativi nello sviluppo in breve tempo\, possono mostrare una disorganizzazione o regressione in alcune abilità e ciò può creare ansia e incertezza nei genitori. Comprendere questi Touchpoints aiuta chi si prende cura del bambino a interpretare i suoi comportamenti\, facilitando un supporto più mirato ed efficace.\n\nDocente\n\n\n\n\n \n\n\n\n\nDott. Gherardo Rapisardi\,\nPediatra e neonatologo\, formatore approccio Touchpoints\nBrazelton\, Firenze\nDestinatari\n\nTuttə ə Sociə 2024\, nell’ottica di creare valore e condividere un nuovo sguardo.\n\n\n\n\nDate e luogo\n\n\n\nMercoledì 2 ottobre 2024 ore 21:00 su ZOOM \nIscrizioni\n\nLe iscrizioni sono attualmente chiuse\n\nModalità di partecipazione:\nIl giorno precedente al Webinar\, ti invieremo la comunicazione con il link di accesso. Il meeting su ZOOM verrà attivato poco prima dell’inizio del Webinar. \n  \nScarica la  locandina
URL:https://www.dirime.com/eventi/webinar-gratuito-salti-in-avanti-e-regressioni-nello-sviluppo/
LOCATION:piattaforma ZOOM
CATEGORIES:Prossimo Corso,Webinar
ATTACH;FMTTYPE=image/jpeg:https://www.dirime.com/wp-content/uploads/2024/07/2024_SALTI-SVILUPPO-1-1.jpg
END:VEVENT
END:VCALENDAR