BEGIN:VCALENDAR
VERSION:2.0
PRODID:-//DIRimè Italia - ECPv6.15.18//NONSGML v1.0//EN
CALSCALE:GREGORIAN
METHOD:PUBLISH
X-WR-CALNAME:DIRimè Italia
X-ORIGINAL-URL:https://www.dirime.com
X-WR-CALDESC:Eventi per DIRimè Italia
REFRESH-INTERVAL;VALUE=DURATION:PT1H
X-Robots-Tag:noindex
X-PUBLISHED-TTL:PT1H
BEGIN:VTIMEZONE
TZID:Europe/Rome
BEGIN:DAYLIGHT
TZOFFSETFROM:+0100
TZOFFSETTO:+0200
TZNAME:CEST
DTSTART:20230326T010000
END:DAYLIGHT
BEGIN:STANDARD
TZOFFSETFROM:+0200
TZOFFSETTO:+0100
TZNAME:CET
DTSTART:20231029T010000
END:STANDARD
BEGIN:DAYLIGHT
TZOFFSETFROM:+0100
TZOFFSETTO:+0200
TZNAME:CEST
DTSTART:20240331T010000
END:DAYLIGHT
BEGIN:STANDARD
TZOFFSETFROM:+0200
TZOFFSETTO:+0100
TZNAME:CET
DTSTART:20241027T010000
END:STANDARD
BEGIN:DAYLIGHT
TZOFFSETFROM:+0100
TZOFFSETTO:+0200
TZNAME:CEST
DTSTART:20250330T010000
END:DAYLIGHT
BEGIN:STANDARD
TZOFFSETFROM:+0200
TZOFFSETTO:+0100
TZNAME:CET
DTSTART:20251026T010000
END:STANDARD
END:VTIMEZONE
BEGIN:VEVENT
DTSTART;TZID=Europe/Rome:20240506T203000
DTEND;TZID=Europe/Rome:20240527T223000
DTSTAMP:20260426T024846
CREATED:20240417T184556Z
LAST-MODIFIED:20240508T101334Z
UID:9277-1715027400-1716849000@www.dirime.com
SUMMARY:Corso online DIR-PREP
DESCRIPTION:Corso online di preparazione alla Certificazione DIRFloortime \nVuoi avvicinarti al modello DIRFloortime e capire come cogliere i segnali deə  bambinə sulle sue capacità di autoregolazione\, attenzione e comunicazione?\nSei già in Certificazione e vuoi rafforzare la tua conoscenza delle capacità emotivo-funzionali dello sviluppo? \nEcco il Corso online DIR-PREP: 4 incontri online con una docente DIRFloortime per approfondire gli aspetti teorici più importanti all’inizio della certificazione e per familiarizzare con la videoanalisi e la lettura dei segnali del bambino sul proprio profilo individuale. \nCos’è il corso DIR-PREP\nIl DIR-PREP è il corso online propedeutico per approfondire la lettura DIRFloortime del profilo neuroevolutivo.\nIl corso prevede quattro incontri in cui unə docentə espertə ICDL DIR204 guida l’approfondimento teorico e presenta il proprio materiale video.\nAttraverso videoanalisi guidata\, esercitazioni di gruppo e griglie di osservazione e valutazione\, rafforziamo la capacità di lettura del profilo individuale della persona e le modalità di Floortime per sostenere l’acquisizione delle prime quattro capacità emozionali-funzionali della crescita umana.\n\nDate \n\n\n6-13-20-27\nmaggio 2024\n\nChiusura iscrizioni\n4 maggio 2024\n\n\nDestinatarə\nOperatori in possesso di Attestato ICDL DIR101.  Il Corso è aperto anche aə Operatorə che non svolgono la certificazione DIRFloortime con Dirimè Italia. \nDocente\n \n  \nGiulia Campatelli\, Psicologa Psicoterapeuta sistemico-relazionale\, DIR Expert & Training Leadxer ICDL DIR204 \n\nModalità di iscrizione\n\nSei un Operatorə già Sociə? Clicca qui\nSei un Operatore NON ANCORA Sociə? Clicca qui\n\n  \nSono previsti degli sconti per i gruppi con almeno 5 partecipanti. Per informazioni contattare la Segreteria al numero 379-1644669 \n  \nScarica la locandina \n 
URL:https://www.dirime.com/eventi/corso-online-dir-prep-2/
LOCATION:piattaforma ZOOM
CATEGORIES:Corsi DIRPrep
ATTACH;FMTTYPE=image/jpeg:https://www.dirime.com/wp-content/uploads/2024/04/pag.-1-2-scaled.jpg
END:VEVENT
END:VCALENDAR