BEGIN:VCALENDAR
VERSION:2.0
PRODID:-//DIRimè Italia - ECPv6.15.18//NONSGML v1.0//EN
CALSCALE:GREGORIAN
METHOD:PUBLISH
X-WR-CALNAME:DIRimè Italia
X-ORIGINAL-URL:https://www.dirime.com
X-WR-CALDESC:Eventi per DIRimè Italia
REFRESH-INTERVAL;VALUE=DURATION:PT1H
X-Robots-Tag:noindex
X-PUBLISHED-TTL:PT1H
BEGIN:VTIMEZONE
TZID:Europe/Rome
BEGIN:DAYLIGHT
TZOFFSETFROM:+0100
TZOFFSETTO:+0200
TZNAME:CEST
DTSTART:20170326T010000
END:DAYLIGHT
BEGIN:STANDARD
TZOFFSETFROM:+0200
TZOFFSETTO:+0100
TZNAME:CET
DTSTART:20171029T010000
END:STANDARD
BEGIN:DAYLIGHT
TZOFFSETFROM:+0100
TZOFFSETTO:+0200
TZNAME:CEST
DTSTART:20180325T010000
END:DAYLIGHT
BEGIN:STANDARD
TZOFFSETFROM:+0200
TZOFFSETTO:+0100
TZNAME:CET
DTSTART:20181028T010000
END:STANDARD
BEGIN:DAYLIGHT
TZOFFSETFROM:+0100
TZOFFSETTO:+0200
TZNAME:CEST
DTSTART:20190331T010000
END:DAYLIGHT
BEGIN:STANDARD
TZOFFSETFROM:+0200
TZOFFSETTO:+0100
TZNAME:CET
DTSTART:20191027T010000
END:STANDARD
END:VTIMEZONE
BEGIN:VEVENT
DTSTART;TZID=Europe/Rome:20180126T090000
DTEND;TZID=Europe/Rome:20181111T180000
DTSTAMP:20260421T235031
CREATED:20180125T164644Z
LAST-MODIFIED:20180125T164644Z
UID:1743-1516957200-1541959200@www.dirime.com
SUMMARY:Il calendario formativo DIR Floortime per il 2018
DESCRIPTION:Ecco il calendario 2018 di tutti i nostri eventi formativi DIR Floortime. \nHai bisogno di allenarti nella lettura del profilo FEDC e sensoriale dei bambini? Vuoi avere più occasioni di scambio con professionisti di altre discipline? Partecipa al nuovo formato online dei Gruppi di Discussione Casi: la formazione DIR Floortime nella comodità di casa. \nPer info e iscrizioni\, invia i moduli e la ricevuta di pagamento a info@segreteria.com
URL:https://www.dirime.com/eventi/il-calendario-formativo-dir-floortime-per-il-2018/
CATEGORIES:Corsi DIR101,Prossimo Corso,ZZZ Non usare - In evidenza Formazione
ATTACH;FMTTYPE=:
END:VEVENT
BEGIN:VEVENT
DTSTART;TZID=Europe/Rome:20181010T090000
DTEND;TZID=Europe/Rome:20181013T180000
DTSTAMP:20260421T235031
CREATED:20180528T152108Z
LAST-MODIFIED:20180528T152108Z
UID:1825-1539162000-1539453600@www.dirime.com
SUMMARY:Corso di certificazione sul Modello DIR® e DIRFloortime® - Edizione 2018
DESCRIPTION:DIRimè apre le iscrizioni al prossimo corso di Certificazione sul modello DIR® certificato da ICDL – casa madre del modello DIR® e DIRFloortime®.\nQuattro giorni di intensa esperienza formativa e di scambio con professionisti esperti nel modello e didatti internazionali dell’ICDL – scuola di formazione originaria del modello fondato da Stanley Greenspan. \nDate: dal 10 al 13 Ottobre 2018 \nLuogo: IRCCS Stella Maris – Calambrone (PI) \nSe sei interessato a vedere il tuo percorso formativo riconosciuto\, avere l’opportunità di diventare terapista certificato nel modello DIRFloortime® ed essere successivamente iscritto nelle liste dei terapisti DIR certificati in Italia questa è l’occasione formativa da cogliere ! \nIl corso è per i livelli di certificazione DIR201 e DIR202 \nI partecipanti che completeranno con successo il livello DIR201 potranno così ottenere il certificato DIRFloortime® Basic Certificate \nI partecipanti che completeranno con successo il livello DIR202 potranno invece ottenere il DIRFloortime® Certificate of Proficiency  \nPrerequisiti per accedere al corso: \nPer accedere al livello DIR201 è necessario aver svolto un corso introduttivo DIR101 e almeno 9 ore di supervisione clinica con un supervisore certificato. \nPer accedere al livello DIR202 è necessario aver superato con successo il livello DIR201 e aver svolto almeno 9 ore di supervisione clinica con un supervisore certificato. \nEARLY BIRD –  15 LUGLIO !\nIscriviti e riserva il tuo posto entro il 15 Luglio\nper usufruire della tariffa agevolata !\nPer iscrizione scarica e invia i moduli compilati (unitamente alla ricevuta di pagamento) a: segreteria@dirime.com\n\nScheda Iscrizione al Corso di Certificazione 2018\nTermini e condizioni DIR201\nTermini e condizioni DIR 202\nModulo di consenso alla videoregistrazione\n\nSe non sei ancora socio DIRimè compila ed inoltra anche il\n\nModulo di Iscrizione a DIRimè\n\n Scarica qui la locandina del corso di certificazione\n\nLocandina DIR201 e DIR202
URL:https://www.dirime.com/eventi/corso-di-certificazione-sul-modello-dir/
CATEGORIES:Corsi di Certificazione DIRime’- ICDL,Corsi DIRPrep,Prossimo Corso,ZZZ Non usare - In evidenza Formazione
ATTACH;FMTTYPE=:
END:VEVENT
END:VCALENDAR