BEGIN:VCALENDAR
VERSION:2.0
PRODID:-//DIRimè Italia - ECPv6.15.18//NONSGML v1.0//EN
CALSCALE:GREGORIAN
METHOD:PUBLISH
X-ORIGINAL-URL:https://www.dirime.com
X-WR-CALDESC:Eventi per DIRimè Italia
REFRESH-INTERVAL;VALUE=DURATION:PT1H
X-Robots-Tag:noindex
X-PUBLISHED-TTL:PT1H
BEGIN:VTIMEZONE
TZID:Europe/Rome
BEGIN:DAYLIGHT
TZOFFSETFROM:+0100
TZOFFSETTO:+0200
TZNAME:CEST
DTSTART:20240331T010000
END:DAYLIGHT
BEGIN:STANDARD
TZOFFSETFROM:+0200
TZOFFSETTO:+0100
TZNAME:CET
DTSTART:20241027T010000
END:STANDARD
BEGIN:DAYLIGHT
TZOFFSETFROM:+0100
TZOFFSETTO:+0200
TZNAME:CEST
DTSTART:20250330T010000
END:DAYLIGHT
BEGIN:STANDARD
TZOFFSETFROM:+0200
TZOFFSETTO:+0100
TZNAME:CET
DTSTART:20251026T010000
END:STANDARD
BEGIN:DAYLIGHT
TZOFFSETFROM:+0100
TZOFFSETTO:+0200
TZNAME:CEST
DTSTART:20260329T010000
END:DAYLIGHT
BEGIN:STANDARD
TZOFFSETFROM:+0200
TZOFFSETTO:+0100
TZNAME:CET
DTSTART:20261025T010000
END:STANDARD
END:VTIMEZONE
BEGIN:VEVENT
DTSTART;TZID=Europe/Rome:20250607T080000
DTEND;TZID=Europe/Rome:20250607T180000
DTSTAMP:20260426T025603
CREATED:20250510T094450Z
LAST-MODIFIED:20250606T153448Z
UID:10267-1749283200-1749319200@www.dirime.com
SUMMARY:Convegno scientifico multidisciplinare: Il comportamento difficile
DESCRIPTION:Alla scoperta di cosa significa e cosa dobbiamo fare\nUrlare\, piangere\, picchiare\, calciare\, correre via o lasciarsi cadere a terra rifiutando di muoversi sono tutti comportamenti fuori controllo con cui i bambini possono confondere i genitori e fare sentire frustrati e senza speranza gli adulti di riferimento. I metodi classici di gestione delle crisi intervengono ormai troppo tardi\, e spesso a cose fatte\, e creano una spirale di comportamenti ingestibili nel bambinə e disperazione nell’ adultə.\nIn questo workshop esploreremo i significati comunicativi del comportamento del bambino\, la percezione corporea alterata del rischio\, soprattutto nel bambinə neurodivergente vulnerabile\, e il ruolo della paura nel cervello e nel corpo.\nApprofondiremo come creare sicurezza nei momenti di stress e come gestire la nostra stessa reattività per supportare anche l’adultə di riferimento in interazioni sicure con lə bambinə. \nIl corso offre un approfondimento avanzato pensato per conoscenze professionali. \n\nDestinatarə\nProfessionistə dell’area sanitaria e educativo-preventiva e genitori. \nDocente\nProf.ssa Barbara Kalmanson\, Ph.D.  \nLa Prof.ssa Kalmanson ha alle spalle 50 anni di esperienza come psicologa clinica\, educatrice specializzata e specialista della salute mentale infantile.\nE’ co-fondatrice di ICDL Institute (Interdisciplinary Council on Developmental and Learning\nDisorders)\, della scuola Oak Hill School per bambini autistici e con disturbi del neurosviluppo. Membro originario del programma Genitore-Bambino presso l’ Università della California\, SanFrancisco (UCSF)\, è stata anche parte della commissione Zero to Three. E’ consulente nazionale e internazionale per scuole ed enti territoriali e Socia Onoraria di DIRimè Italia APS. \n\nQuote di iscrizione:\nLe quote sono comprensive di tesseramento come Sociə 2025\, 35 euro \n\nProfessionistə Socə DIRimè 2025: 120 euro\nProfessionistə non ancora Socə DIRimè 2025: 155 euro (comprensivi di tesseramento 2025)\n\nPer gli Enti e le Associazioni le tariffe sono da intendersi IVA esclusa. \n  \nModalità di iscrizione online\n  \nLe iscrizioni sono attualmente chiuse \n  \nScarica la locandina \n \n \n 
URL:https://www.dirime.com/eventi/convegno-scientifico-multidisciplinare-il-comportamento-difficile/
LOCATION:C/O Ledha\, Via Livigno\, 2 Milano\, Italy
CATEGORIES:Altri eventi da segnalare,Corsi in presenza,Home page - In evidenza,Prossimo Corso
ATTACH;FMTTYPE=image/jpeg:https://www.dirime.com/wp-content/uploads/2025/05/pag1-3-scaled.jpg
END:VEVENT
END:VCALENDAR