BEGIN:VCALENDAR
VERSION:2.0
PRODID:-//DIRimè Italia - ECPv6.15.18//NONSGML v1.0//EN
CALSCALE:GREGORIAN
METHOD:PUBLISH
X-WR-CALNAME:DIRimè Italia
X-ORIGINAL-URL:https://www.dirime.com
X-WR-CALDESC:Eventi per DIRimè Italia
REFRESH-INTERVAL;VALUE=DURATION:PT1H
X-Robots-Tag:noindex
X-PUBLISHED-TTL:PT1H
BEGIN:VTIMEZONE
TZID:Europe/Rome
BEGIN:DAYLIGHT
TZOFFSETFROM:+0100
TZOFFSETTO:+0200
TZNAME:CEST
DTSTART:20180325T010000
END:DAYLIGHT
BEGIN:STANDARD
TZOFFSETFROM:+0200
TZOFFSETTO:+0100
TZNAME:CET
DTSTART:20181028T010000
END:STANDARD
BEGIN:DAYLIGHT
TZOFFSETFROM:+0100
TZOFFSETTO:+0200
TZNAME:CEST
DTSTART:20190331T010000
END:DAYLIGHT
BEGIN:STANDARD
TZOFFSETFROM:+0200
TZOFFSETTO:+0100
TZNAME:CET
DTSTART:20191027T010000
END:STANDARD
BEGIN:DAYLIGHT
TZOFFSETFROM:+0100
TZOFFSETTO:+0200
TZNAME:CEST
DTSTART:20200329T010000
END:DAYLIGHT
BEGIN:STANDARD
TZOFFSETFROM:+0200
TZOFFSETTO:+0100
TZNAME:CET
DTSTART:20201025T010000
END:STANDARD
BEGIN:DAYLIGHT
TZOFFSETFROM:+0100
TZOFFSETTO:+0200
TZNAME:CEST
DTSTART:20210328T010000
END:DAYLIGHT
BEGIN:STANDARD
TZOFFSETFROM:+0200
TZOFFSETTO:+0100
TZNAME:CET
DTSTART:20211031T010000
END:STANDARD
BEGIN:DAYLIGHT
TZOFFSETFROM:+0100
TZOFFSETTO:+0200
TZNAME:CEST
DTSTART:20220327T010000
END:DAYLIGHT
BEGIN:STANDARD
TZOFFSETFROM:+0200
TZOFFSETTO:+0100
TZNAME:CET
DTSTART:20221030T010000
END:STANDARD
BEGIN:DAYLIGHT
TZOFFSETFROM:+0100
TZOFFSETTO:+0200
TZNAME:CEST
DTSTART:20230326T010000
END:DAYLIGHT
BEGIN:STANDARD
TZOFFSETFROM:+0200
TZOFFSETTO:+0100
TZNAME:CET
DTSTART:20231029T010000
END:STANDARD
BEGIN:DAYLIGHT
TZOFFSETFROM:+0100
TZOFFSETTO:+0200
TZNAME:CEST
DTSTART:20240331T010000
END:DAYLIGHT
BEGIN:STANDARD
TZOFFSETFROM:+0200
TZOFFSETTO:+0100
TZNAME:CET
DTSTART:20241027T010000
END:STANDARD
BEGIN:DAYLIGHT
TZOFFSETFROM:+0100
TZOFFSETTO:+0200
TZNAME:CEST
DTSTART:20250330T010000
END:DAYLIGHT
BEGIN:STANDARD
TZOFFSETFROM:+0200
TZOFFSETTO:+0100
TZNAME:CET
DTSTART:20251026T010000
END:STANDARD
BEGIN:DAYLIGHT
TZOFFSETFROM:+0100
TZOFFSETTO:+0200
TZNAME:CEST
DTSTART:20260329T010000
END:DAYLIGHT
BEGIN:STANDARD
TZOFFSETFROM:+0200
TZOFFSETTO:+0100
TZNAME:CET
DTSTART:20261025T010000
END:STANDARD
END:VTIMEZONE
BEGIN:VEVENT
DTSTART;TZID=Europe/Rome:20250607T080000
DTEND;TZID=Europe/Rome:20250607T180000
DTSTAMP:20260423T045929
CREATED:20250510T094450Z
LAST-MODIFIED:20250606T153448Z
UID:10267-1749283200-1749319200@www.dirime.com
SUMMARY:Convegno scientifico multidisciplinare: Il comportamento difficile
DESCRIPTION:Alla scoperta di cosa significa e cosa dobbiamo fare\nUrlare\, piangere\, picchiare\, calciare\, correre via o lasciarsi cadere a terra rifiutando di muoversi sono tutti comportamenti fuori controllo con cui i bambini possono confondere i genitori e fare sentire frustrati e senza speranza gli adulti di riferimento. I metodi classici di gestione delle crisi intervengono ormai troppo tardi\, e spesso a cose fatte\, e creano una spirale di comportamenti ingestibili nel bambinə e disperazione nell’ adultə.\nIn questo workshop esploreremo i significati comunicativi del comportamento del bambino\, la percezione corporea alterata del rischio\, soprattutto nel bambinə neurodivergente vulnerabile\, e il ruolo della paura nel cervello e nel corpo.\nApprofondiremo come creare sicurezza nei momenti di stress e come gestire la nostra stessa reattività per supportare anche l’adultə di riferimento in interazioni sicure con lə bambinə. \nIl corso offre un approfondimento avanzato pensato per conoscenze professionali. \n\nDestinatarə\nProfessionistə dell’area sanitaria e educativo-preventiva e genitori. \nDocente\nProf.ssa Barbara Kalmanson\, Ph.D.  \nLa Prof.ssa Kalmanson ha alle spalle 50 anni di esperienza come psicologa clinica\, educatrice specializzata e specialista della salute mentale infantile.\nE’ co-fondatrice di ICDL Institute (Interdisciplinary Council on Developmental and Learning\nDisorders)\, della scuola Oak Hill School per bambini autistici e con disturbi del neurosviluppo. Membro originario del programma Genitore-Bambino presso l’ Università della California\, SanFrancisco (UCSF)\, è stata anche parte della commissione Zero to Three. E’ consulente nazionale e internazionale per scuole ed enti territoriali e Socia Onoraria di DIRimè Italia APS. \n\nQuote di iscrizione:\nLe quote sono comprensive di tesseramento come Sociə 2025\, 35 euro \n\nProfessionistə Socə DIRimè 2025: 120 euro\nProfessionistə non ancora Socə DIRimè 2025: 155 euro (comprensivi di tesseramento 2025)\n\nPer gli Enti e le Associazioni le tariffe sono da intendersi IVA esclusa. \n  \nModalità di iscrizione online\n  \nLe iscrizioni sono attualmente chiuse \n  \nScarica la locandina \n \n \n 
URL:https://www.dirime.com/eventi/convegno-scientifico-multidisciplinare-il-comportamento-difficile/
LOCATION:C/O Ledha\, Via Livigno\, 2 Milano\, Italy
CATEGORIES:Altri eventi da segnalare,Corsi in presenza,Home page - In evidenza,Prossimo Corso
ATTACH;FMTTYPE=image/jpeg:https://www.dirime.com/wp-content/uploads/2025/05/pag1-3-scaled.jpg
END:VEVENT
BEGIN:VEVENT
DTSTART;TZID=Europe/Rome:20231111T081500
DTEND;TZID=Europe/Rome:20231111T180000
DTSTAMP:20260423T045929
CREATED:20231016T084307Z
LAST-MODIFIED:20231110T141752Z
UID:8578-1699690500-1699725600@www.dirime.com
SUMMARY:Convegno scientifico multidisciplinare: Il comportamento difficile
DESCRIPTION:Alla scoperta di cosa significa e cosa dobbiamo fare\nUrlare\, piangere\, picchiare\, calciare\, correre via o lasciarsi cadere a terra rifiutando di muoversi sono tutti comportamenti fuori controllo con cui i bambini possono confondere i genitori e fare sentire frustrati e senza speranza gli adulti di riferimento. I metodi classici di gestione delle crisi intervengono ormai troppo tardi\, e spesso a cose fatte\, e creano una spirale di comportamenti ingestibili nel bambinə e disperazione nell’ adultə.\nIn questo workshop esploreremo i significati comunicativi del comportamento del bambino\, la percezione corporea alterata del rischio\, soprattutto nel bambinə neurodivergente vulnerabile\, e il ruolo della paura nel cervello e nel corpo.\nApprofondiremo come creare sicurezza nei momenti di stress e come gestire la nostra stessa reattività per supportare anche l’adultə di riferimento in interazioni sicure con lə bambinə. \nIl corso offre un approfondimento avanzato pensato per conoscenze professionali. \n\nDestinatarə\nProfessionistə dell’area sanitaria e educativo-preventiva e genitori. \nDocente\nProf.ssa Barbara Kalmanson\, Ph.D.  \nLa Prof.ssa Kalmanson ha alle spalle 50 anni di esperienza come psicologa clinica\, educatrice specializzata e specialista della salute mentale infantile.\nE’ co-fondatrice di ICDL Institute (Interdisciplinary Council on Developmental and Learning\nDisorders)\, della scuola Oak Hill School per bambini autistici e con disturbi del neurosviluppo. Membro originario del programma Genitore-Bambino presso l’ Università della California\, SanFrancisco (UCSF)\, è stata anche parte della commissione Zero to Three. E’ consulente nazionale e internazionale per scuole ed enti territoriali e Socia Onoraria di DIRimè Italia APS. \n\nQuote di iscrizione:\nLe quote sono comprensive di tesseramento come Sociə 2023\, 30 euro \n\nProfessionistə Socə DIRimè 2023: 120 euro\nProfessionistə non ancora Socə: 150 euro (comprensivi di tesseramento 2023)\nRiduzioni per Socə degli Enti patrocinanti\, studenti e Gruppi con almeno 5 partecipanti ( per info contattare la Segreteria al numero 3791644669).\n\nPer gli Enti e le Associazioni le tariffe sono da intendersi IVA esclusa. \n  \nModalità di iscrizione online\n  \nLe iscrizioni sono attualmente chiuse \n  \nScarica la locandina \n \n  \n 
URL:https://www.dirime.com/eventi/corso-avanzato-il-comportamento-difficile/
LOCATION:Sala San Raffaele\, via Olgettina MILANO
CATEGORIES:Corsi ECM in presenza,Home page - In evidenza,Prossimo Corso
END:VEVENT
BEGIN:VEVENT
DTSTART;TZID=Europe/Rome:20230422T103000
DTEND;TZID=Europe/Rome:20230422T180000
DTSTAMP:20260423T045929
CREATED:20230215T131616Z
LAST-MODIFIED:20230302T140000Z
UID:7809-1682159400-1682186400@www.dirime.com
SUMMARY:Convegno SIPRe 2023
DESCRIPTION:Comprendere il bambino da una prospettiva sensori-motoria e relazionale.\nUn approccio terapeutico mediato dai genitori.\nDIRimè è lieta di presentare l’apertura delle iscrizioni al Convegno SIPRe 2023: “Comprendere il bambino da una prospettiva sensori-motoria e relazionale. Un approccio terapeutico mediato dai genitori” con la prospettiva globale che contraddistingue il DIRFloortime. \nLa giornata è pensata come un’occasione formativa e di confronto; discussant sarà la dott.ssa Giulia Cavalli PhD\, Psicologa\, Psicoterapeuta SIPRe\, membro dell’Area Bambino SIPRe Milano\, docente universitaria di psicologia dello sviluppo e dell’educazione. \nComitato scientifico dell’evento:\nSabina Baratelli\, Giulia Cavalli\, Sonia Corbella\, Serena Galliera\, Paolo Milanesi\, Ottavia Zerbi.\nComitato organizzativo:\nSerena Galliera\, Ilaria Merlino \nQuando e dove\nSabato 22 aprile\, dalle 10:30 alle 18:00 su piattaforma online ZOOM \nCon chi\nProf.ssa Barbara Kalmanson\, PhD\nPsicologa e Educatrice\, Membro della commissione Zero-to-Three\, Professoressa DIRFloortime per ICDL Institute e Profectum Fundation. Fondqatrice della scuola Oak Hill School a San Francisco per bambini neurodivergenti. \n  \nDott.ssa Sabina Baratelli\nNeuropsichiatra Infantile\, Psicoterapeuta\, Psicologa dello Sport\, Membro dell’area bambino della SIPRe Milano\, Supervisora e docente DIRFloortime come DIRimè Italia\, Referente DIRimè per la Lombardia \n  \nTariffa agevolata per Socə 2023 di DIRimè Italia  \nIscrizioni qui  \nScarica la locandina.
URL:https://www.dirime.com/eventi/convegno-sipre-2023/
LOCATION:piattaforma ZOOM
CATEGORIES:Altri eventi da segnalare
ATTACH;FMTTYPE=image/jpeg:https://www.dirime.com/wp-content/uploads/2023/02/Comprendere-il-bambino-da-una-prospettiva-sensori-motoria-e-relazionale.jpg
END:VEVENT
BEGIN:VEVENT
DTSTART;TZID=Europe/Rome:20200926T103000
DTEND;TZID=Europe/Rome:20200927T150000
DTSTAMP:20260423T045929
CREATED:20200418T054454Z
LAST-MODIFIED:20200918T063728Z
UID:4116-1601116200-1601218800@www.dirime.com
SUMMARY:Corso Introduttivo DIR101 Milano
DESCRIPTION:L’inizio del 2020 ci ha richiesto molto lavoro di adattamento\, riprogrammazione e flessibilità. Apriamo le iscrizioni per il Corso Introduttivo DIR101 di Milano\, con grande attenzione all’applicazione delle norme per il contenimento del rischio Covid-19 per la tutela della salute di tutti. \nCos’è il corso DIR101?\nE’ il Corso Introduttivo al DIRFloortime riconosciuto e certificato da ICDL Institute (Interdisciplinary Council of Development and Learning)\, casa madre del modello DIRFloortime®. Il DIR101 è il primo step necessario per poter accedere al percorso di Certificazione nel Modello DIRFloortime®. Il corso rilascia l’Attestato di Partecipazione direttamente da ICDL Institute e permette di avere accesso al livello di formazione successiva (Corso di certificazione base DIR201) all’intero del piano formativo di Certificazione per diventare terapista DIRFloortime®. \nDIRimè Italia svolge i corsi introduttivi dal vivo e con più didatti multidisciplinari per offrire\, già a partire dalla stessa formazione\, l’integrazione multidisciplinare teorico-pratica necessaria alla comprensione della neurodiversità. \n\nDestinatari\nNeuropsichiatri Infantili\, Pediatri\, Psicologi\, Terapisti Occupazionali\, Terapisti della Neuro e della Psicomotricità dell’Età Evolutiva\, Terapisti della Riabilitazione Psichiatrica\, Fisioterapisti Logopedisti\, Pedagogisti\, Arteterapisti\, Educatori\, Insegnanti e operatori scolastici\,  Genitori. \nIl corso rilascia 12 crediti ECM per le figure professionali coinvolte. \nIl Corso è aperto a NPI\, pediatri\, TO\, TNPEE\, psicologi\, educatori\, logopedisti\, tecnici della riabilitazione psichiatrica\, pedagogisti\, fisioterapisti\, arteterapisti\, insegnanti e operatori scolastici\, studenti e Genitori. \n  \nQuote di iscrizione\n\nProfessionisti: 250 euro (comprensivi di quota associativa come Socio DIRimè Italia 2020\, 30 euro)\nStudenti universitari: 150 euro* (comprensivi di quota associativa come Socio DIRimè Italia 2020\, 30 euro) *per usufruire della riduzione\, inviare documento di iscrizione CdL universitario a segreteria@dirime.com)\nSoci 2020 AIAS Milano\, ANUPI Tnpee\, AITO: 206 euro** (comprensivi di quota associativa come Socio DIRimè Italia 2020\, 30 euro). **per usufruire della quota agevolata\, inviare tessera 2020 dell’ente patrocinante a segreteria@dirime.com\nGruppi di professionisti >6 unità (non cumulabile con le altre riduzioni): 206 euro*** (comprensivi di quota associativa come Socio DIRimè Italia 2020\, 30 euro) ***per attivare la riduzione\, contattare segreteria@dirime.com PRIMA di effettuare il pagamento\nGenitori di bambini e ragazzi con disturbi del neurosviluppo: gratuito (previo tesseramento come Socio 2020\, 30 euro)\n\nPer gli enti e le associazioni le tariffe sono da intendersi IVA esclusa. \nScarica la locandina \n\nModalità di iscrizione\nLe iscrizione al corso sono attualmente chiuse.  \n  \n  \n \n \n 
URL:https://www.dirime.com/eventi/corso-introduttivo-dir101-milano/
LOCATION:Auditorium Pime\, Via Mosè Bianchi 94\, Milano\, 20149\, Italia
CATEGORIES:Corsi DIR101
ATTACH;FMTTYPE=image/jpeg:https://www.dirime.com/wp-content/uploads/2020/04/DIR101-Milano.jpg
END:VEVENT
BEGIN:VEVENT
DTSTART;TZID=Europe/Rome:20190928T083000
DTEND;TZID=Europe/Rome:20190929T130000
DTSTAMP:20260423T045929
CREATED:20190621T102744Z
LAST-MODIFIED:20190621T102744Z
UID:3188-1569659400-1569762000@www.dirime.com
SUMMARY:Corso introduttivo al modello DIRFloortime (ICDL DIR101) Milano
DESCRIPTION:Aperte le iscrizioni per il corso introduttivo al modello DIRFloortime (DIR101) a Milano! \nCome sempre\, ti offriamo la multidisciplinarietà già nella formazione.\nTRE didatti di professioni diverse tra loro presenteranno il modello con numerosi esempi video a la discussione di casi clinici. \nIl corso è pienamente riconosciuto da ICDL Institute\, casa madre del modello DIRFloortime e rilascia 12 crediti ECM e Attestato di Partecipazione ICDL (NON valevole come certificato DIRFloortime). \nIl DIR101 offre la panoramica dei contributi teorici multidisciplinari su cui poggia il modello DIRFloortime e presenta strumenti per la lettura del profilo individuale del bambino: la regolazione emotivo-comportamentale\, la processazione sensoriale\, lo sviluppo motorio\, l’attenzione\, lo sviluppo comunicativo e il linguaggio\, il gioco e lo sviluppo cognitivo. Il corso offre anche la panoramica delle strategie di Floortime per supportare il neurosviluppo in terapia\, a casa e a scuola. \nIl corso prevede tariffe agevolate per Soci A.I.T.O.\, ANUPI TNPEE e AIAS Milano\, per gruppi di professionisti superiori a 6 unità e per studenti universitari. Il corso è gratuito\, come sempre con DIRimè Italia\, per tutti i Genitori Soci 2019. \nPer iscriverti\, compila il modulo iscrizione e il modulo di tesseramento e invialo a segreteria@dirime.com unitamente alla ricevuta di pagamento. \nInsieme\, per costruire la cultura della neurodiversità. \n  \n 
URL:https://www.dirime.com/eventi/corso-introduttivo-al-modello-dirfloortime-icdl-dir101-milano/
CATEGORIES:Corsi DIR101,Prossimo Corso
ATTACH;FMTTYPE=:
END:VEVENT
BEGIN:VEVENT
DTSTART;TZID=Europe/Rome:20190316T140000
DTEND;TZID=Europe/Rome:20190316T180000
DTSTAMP:20260423T045929
CREATED:20181213T224550Z
LAST-MODIFIED:20181213T224550Z
UID:2351-1552744800-1552759200@www.dirime.com
SUMMARY:Gruppo di supervisione dal vivo
DESCRIPTION:Cogli l’occasione per discutere un tuo caso videoregistrato con due supervisori! \nIl Gruppo di Supervisione offre videoanalisi\, discussione multidisciplinare e indicazioni di trattamento focalizzate sulle capacità evolutive\, il profilo sensori-motorio e comunicativo-linguistico del bambino e le modalità interattive migliori per aumentare il coinvolgimento e l’alleanza terapeutica con la famiglia. \nEcco il prossimo gruppo di supervisione dal vivo con 2 didatti multidisciplinari DIRFloortime e valido (4 ore) ai fini del raggiungimento del monte ore di supervisione (9 ore) richiesto per il corso di certificazione DIR201 ICDL-DIRimè Italia.
URL:https://www.dirime.com/eventi/gruppo-di-supervisione-dal-vivo/
CATEGORIES:Altri eventi da segnalare,Gruppo di discussione casi,Prossimo Corso,ZZZ Non usare - In evidenza Formazione
ATTACH;FMTTYPE=:
END:VEVENT
END:VCALENDAR