BEGIN:VCALENDAR
VERSION:2.0
PRODID:-//DIRimè Italia - ECPv6.15.18//NONSGML v1.0//EN
CALSCALE:GREGORIAN
METHOD:PUBLISH
X-ORIGINAL-URL:https://www.dirime.com
X-WR-CALDESC:Eventi per DIRimè Italia
REFRESH-INTERVAL;VALUE=DURATION:PT1H
X-Robots-Tag:noindex
X-PUBLISHED-TTL:PT1H
BEGIN:VTIMEZONE
TZID:Europe/Rome
BEGIN:DAYLIGHT
TZOFFSETFROM:+0100
TZOFFSETTO:+0200
TZNAME:CEST
DTSTART:20220327T010000
END:DAYLIGHT
BEGIN:STANDARD
TZOFFSETFROM:+0200
TZOFFSETTO:+0100
TZNAME:CET
DTSTART:20221030T010000
END:STANDARD
BEGIN:DAYLIGHT
TZOFFSETFROM:+0100
TZOFFSETTO:+0200
TZNAME:CEST
DTSTART:20230326T010000
END:DAYLIGHT
BEGIN:STANDARD
TZOFFSETFROM:+0200
TZOFFSETTO:+0100
TZNAME:CET
DTSTART:20231029T010000
END:STANDARD
BEGIN:DAYLIGHT
TZOFFSETFROM:+0100
TZOFFSETTO:+0200
TZNAME:CEST
DTSTART:20240331T010000
END:DAYLIGHT
BEGIN:STANDARD
TZOFFSETFROM:+0200
TZOFFSETTO:+0100
TZNAME:CET
DTSTART:20241027T010000
END:STANDARD
END:VTIMEZONE
BEGIN:VEVENT
DTSTART;TZID=Europe/Rome:20230315T210000
DTEND;TZID=Europe/Rome:20230315T223000
DTSTAMP:20260426T053532
CREATED:20230210T102153Z
LAST-MODIFIED:20230315T102940Z
UID:7790-1678914000-1678919400@www.dirime.com
SUMMARY:SOS Genitori
DESCRIPTION:Spazio interattivo gratuito di domande e confronto tra Genitori e Operatorə\nPrimo appuntamento dell’anno con SOS Genitori\, spazio interattivo di domande e confronto come nuovo servizio gratuito per i Genitori Socə DIRimè. \nSOS Genitori permette di fare domande\, ricevere suggerimenti e pre-consulenze\, confrontarsi con altre famiglie e con esperti di diverse aree neuroevolutive\, in prospettiva DIRFloortime di rispetto del bambino\, dei suoi punti di forza\, e del pieno coinvolgimento genitoriale. \nIl tema del mese\nSOS Genitori è uno spazio di confronto e domande\, pensato per le famiglie neuroatipiche. \nNell’ appuntamento di Marzo\, insieme alla Dott.ssa Karin Martin\, ci confronteremo sul tema dello sviluppo linguistico plurilingue per capire quanto è importante sostenere bambinǝ nel loro percorso di crescita attraverso diverse strategie.\nL’incontro offrirà uno spazio sicuro dedicato al confronto tra genitori e professionista\, per condividere le sfide quotidiane e offrire diverse strategie pratiche personalizzate per sostenere lo sviluppo linguistico plurilingue e riconoscerne tutti i benefici. \n \nDocente\nDott.ssa Karin Martin \nDottore di Ricerca in Linguistica\, con specializzazione in Multilinguismo e Dislessia\nEvolutiva.\nConsulente e Formatrice in Multilinguismo. \n  \nDestinatari\nGenitori di bambinə e ragazzə neurodivergentə Soci 2023. \nIscrizioni\n\nLe iscrizioni sono attualmente chiuse\n\nScarica la locandina
URL:https://www.dirime.com/eventi/sos-genitori-6/
LOCATION:piattaforma ZOOM
CATEGORIES:Home page - In evidenza,Webinar
ATTACH;FMTTYPE=image/png:https://www.dirime.com/wp-content/uploads/2023/02/2023_SOS-GENITORI-marzo-1.png
END:VEVENT
END:VCALENDAR