BEGIN:VCALENDAR
VERSION:2.0
PRODID:-//DIRimè Italia - ECPv6.15.18//NONSGML v1.0//EN
CALSCALE:GREGORIAN
METHOD:PUBLISH
X-ORIGINAL-URL:https://www.dirime.com
X-WR-CALDESC:Eventi per DIRimè Italia
REFRESH-INTERVAL;VALUE=DURATION:PT1H
X-Robots-Tag:noindex
X-PUBLISHED-TTL:PT1H
BEGIN:VTIMEZONE
TZID:Europe/Rome
BEGIN:DAYLIGHT
TZOFFSETFROM:+0100
TZOFFSETTO:+0200
TZNAME:CEST
DTSTART:20220327T010000
END:DAYLIGHT
BEGIN:STANDARD
TZOFFSETFROM:+0200
TZOFFSETTO:+0100
TZNAME:CET
DTSTART:20221030T010000
END:STANDARD
BEGIN:DAYLIGHT
TZOFFSETFROM:+0100
TZOFFSETTO:+0200
TZNAME:CEST
DTSTART:20230326T010000
END:DAYLIGHT
BEGIN:STANDARD
TZOFFSETFROM:+0200
TZOFFSETTO:+0100
TZNAME:CET
DTSTART:20231029T010000
END:STANDARD
BEGIN:DAYLIGHT
TZOFFSETFROM:+0100
TZOFFSETTO:+0200
TZNAME:CEST
DTSTART:20240331T010000
END:DAYLIGHT
BEGIN:STANDARD
TZOFFSETFROM:+0200
TZOFFSETTO:+0100
TZNAME:CET
DTSTART:20241027T010000
END:STANDARD
END:VTIMEZONE
BEGIN:VEVENT
DTSTART;TZID=Europe/Rome:20231108T210000
DTEND;TZID=Europe/Rome:20231108T223000
DTSTAMP:20260424T023235
CREATED:20231024T074951Z
LAST-MODIFIED:20231108T134027Z
UID:8631-1699477200-1699482600@www.dirime.com
SUMMARY:SOS Genitori
DESCRIPTION:Spazio interattivo gratuito di domande e confronto tra Genitori e Operatorə\nNuovo appuntamento  con SOS Genitori\, spazio interattivo di domande e confronto come servizio gratuito per i Genitori Socə DIRimè. \nSOS Genitori permette di fare domande\, ricevere suggerimenti e pre-consulenze\, confrontarsi con altre famiglie e con esperti di diverse aree neuroevolutive\, in prospettiva DIRFloortime di rispetto del bambino\, dei suoi punti di forza\, e del pieno coinvolgimento genitoriale. \nIl tema del mese\nSOS Genitori è uno spazio di confronto e domande\, pensato per le famiglie neuroatipiche. \nNell’appuntamento di Novembre\, insieme alla Psicologa Dott.ssa Barbara Cravero e alla Logopedista Dott.ssa Veronica Salè\, ci confronteremo sul tema della lettura condivisa di libri come occasione di promozione allo sviluppo comunicativo e linguistico per tuttǝ ǝ bambinǝ. L’incontro offrirà uno spazio sicuro dedicato al confronto tra genitori e professionista\, per condividere le proprie esperienze e offrire diverse strategie pratiche personalizzate per la scelta dei libri e per identificare lo stile interattivo migliore per sostenere le evoluzioni comunicativo-linguistiche deǝ bambinǝ. \nDocenti:\n\n\n\n\n \n\n\n\n\n  \nDott.ssa Barbara Cravero \nPsicologa \nTerapista certificata DIRFloortime (DIR204) \n\n\n\n\n\n\n\n \n  \nDott.ssa Veronica Salè \n\n\n\nLogopedista \n\n\n\n\n\n  \nDestinatari\nGenitori di bambinə e ragazzə neurodivergentə Soci 2023. \nIscrizioni:\nLe iscrizioni sono attualmente chiuse \nScarica la locandina \n  \n 
URL:https://www.dirime.com/eventi/sos-genitori-8/
LOCATION:piattaforma ZOOM
CATEGORIES:Home page - In evidenza,Webinar
ATTACH;FMTTYPE=image/png:https://www.dirime.com/wp-content/uploads/2023/10/2023_SOS-GENITORI-novembre-1.png
END:VEVENT
END:VCALENDAR